{"text_format":"1","workbook":"xlsx","n_sheets":4,"sheets":["MAIN-GAUGE","GAUGE CHART","2.REGIONS DASHBOARD","1.OVERVIEW DASHBOARD"],"not_rendered":{"charts":45,"images":3,"macros":0,"external_links":6,"defined_names":7,"comments":0,"pivot_tables":0},"unopened":[],"bounds":{"document_bytes":16777216,"sheet_cells":100000,"rows_first":2000,"rows_last":500,"rows_between":2000,"halvings":0,"cell_chars":16384,"cell_head_chars":4096},"cells_cut":0,"cells_raw":0,"read":"whole","date_system":"1900"}

{"sheet":"MAIN-GAUGE","index":0,"n_rows":69,"n_cols":23,"rows_kept":69,"cut":false,"hidden":false,"merged":[[6,23,6,24],[14,8,14,9],[14,12,14,13],[14,16,14,17],[14,20,14,21],[12,8,12,9],[12,12,12,13],[10,8,10,9],[8,20,8,21],[10,20,10,21],[6,16,6,17],[8,12,8,13],[10,12,10,13],[8,16,8,17],[6,8,6,9],[8,8,8,9],[55,0,55,1],[55,2,55,3],[55,4,55,5],[55,6,55,7],[55,8,55,9],[50,0,50,1],[50,2,50,3],[50,4,50,5],[50,6,50,7],[50,8,50,9],[72,0,72,1],[72,2,72,3],[72,4,72,5],[72,6,72,7],[61,0,61,1],[61,2,61,3],[61,4,61,5],[61,6,61,7],[62,0,62,1],[62,2,62,3],[62,4,62,5],[62,6,62,7],[68,0,68,1],[68,2,68,3],[68,4,68,5],[68,6,68,7],[43,8,43,9],[44,0,44,1],[44,2,44,3],[44,4,44,5],[44,6,44,7],[44,8,44,9],[43,0,43,1],[43,2,43,3],[43,4,43,5],[43,6,43,7],[38,0,38,1],[38,2,38,3],[38,4,38,5],[38,6,38,7],[38,8,38,9],[25,0,25,1],[25,2,25,3],[25,4,25,5],[25,6,25,7],[33,0,33,1],[33,2,33,3],[33,4,33,5],[33,6,33,7],[17,0,17,2],[17,7,17,9],[17,16,17,18],[0,0,1,3],[0,6,1,22],[4,8,4,10],[4,0,4,7],[4,12,4,14],[6,12,6,13],[4,20,4,22],[6,20,6,21],[4,16,4,18],[10,16,10,17],[12,16,12,17],[12,20,12,21]]}
["GOVERNANCE\nREGION KPI PERFORMANCE  DASHBOARD"]
[]
[]
[]
["TOTAL PROGRAM",null,null,null,null,null,null,null,"TOTAL PROGRAMME  (BLACK IND)",null,null,null,"GAUTENG (RED IND)",null,null,null,"KZN (BLUE IND)",null,null,null,"WESTERN CAPE (PURPLE IND)"]
[]
[null,null,null,null,null,null,null,null,"TOTAL TARGET",null,{"$f":"'2.REGIONS DASHBOARD'!C62","v":15485},null,"TOTAL TARGET",null,{"$f":"'2.REGIONS DASHBOARD'!K62","v":7026},null,"TOTAL TARGET",null,{"$f":"'2.REGIONS DASHBOARD'!AA62","v":5756},null,"TOTAL TARGET",null,{"$f":"'2.REGIONS DASHBOARD'!AQ62","v":2703}]
[null,null,null,null,null,null,null,null,null,null,null,null,null,null,null,null,null,null,null,null,null,null,{"$f":"'[2]2.Q-PROGRESS DASHBOARD'!$D$62","v":1863}]
[null,null,null,null,null,null,null,null," ANNUAL VARIANCE",null,{"$f":"'2.REGIONS DASHBOARD'!D62","v":4585},null," ANNUAL VARIANCE",null,{"$f":"'2.REGIONS DASHBOARD'!L62","v":149},null," ANNUAL VARIANCE",null,{"$f":"'2.REGIONS DASHBOARD'!AB62","v":2573},null," ANNUAL VARIANCE",null,{"$f":"'2.REGIONS DASHBOARD'!AR62","v":1863}]
[]
[null,null,null,null,null,null,null,null,"YTD ACTUAL",null,{"$f":"'2.REGIONS DASHBOARD'!E62","v":10376},null,"YTD ACTUAL",null,{"$f":"'2.REGIONS DASHBOARD'!M62","v":6877},null,"YTD ACTUAL",null,{"$f":"'2.REGIONS DASHBOARD'!AC62","v":2659},null,"YTD ACTUAL",null,{"$f":"'2.REGIONS DASHBOARD'!AS62","v":840}]
[]
[null,null,null,null,null,null,null,null,"YTD BACKLOG",null,{"$f":"'2.REGIONS DASHBOARD'!F62","v":12},null,"YTD BACKLOG",null,{"$f":"'2.REGIONS DASHBOARD'!N62","v":-1996},null,"YTD BACKLOG",null,{"$f":"'2.REGIONS DASHBOARD'!AD62","v":954},null,"YTD BACKLOG",null,{"$f":"'2.REGIONS DASHBOARD'!AT62","v":1054}]
[]
[null,null,null,null,null,null,null,null,"YTD PERFORMANCE",null,{"$f":"'2.REGIONS DASHBOARD'!I62","v":0.9988448209472468},null,"YTD PERFORMANCE",null,{"$f":"'2.REGIONS DASHBOARD'!Q62","v":1.4089325957795533},null,"YTD PERFORMANCE",null,{"$f":"'2.REGIONS DASHBOARD'!AG62","v":0.73595350124550241},null,"YTD PERFORMANCE",null,{"$f":"'2.REGIONS DASHBOARD'!AW62","v":0.44350580781414994}]
[]
[]
["GAUTENG",null,null,null,null,null,null,"KZN",null,null,null,null,null,null,null,null,"WESTERN CAPE"]
[]
[null,null,null,null,null,null,null,null,"GAUTENG","Q1","Q2","Q3","Q4"]
[null,null,null,null,null,null,null,null,"SET TARGET",{"$f":"'[3]2.Q-PROGRESS DASHBOARD'!$O$62","v":1202},{"$f":"'[3]2.Q-PROGRESS DASHBOARD'!$AB$62","v":1202},{"$f":"'[3]2.Q-PROGRESS DASHBOARD'!$AP$62","v":2477},{"$f":"'[3]2.Q-PROGRESS DASHBOARD'!$BE$62","v":2145}]
[null,null,null,null,null,null,null,null,"UPDATED TARGET",{"$f":"J21","v":1202},{"$f":"'[3]2.Q-PROGRESS DASHBOARD'!$AA$62","v":1256.3333333333335},{"$f":"'[3]2.Q-PROGRESS DASHBOARD'!$AO$62","v":1614},{"$f":"'[3]2.Q-PROGRESS DASHBOARD'!$BD$62","v":149}]
[null,null,null,null,null,null,null,null,"ACTUAL",{"$f":"'[3]2.Q-PROGRESS DASHBOARD'!$W$62","v":1039},{"$f":"'[3]2.Q-PROGRESS DASHBOARD'!$AK$62","v":3091},{"$f":"'[3]2.Q-PROGRESS DASHBOARD'!$AZ$62","v":3461},{"$f":"'[3]2.Q-PROGRESS DASHBOARD'!$BP$62","v":0}]
[]
[null,null,null,null,null,null,null,null,"KZN","Q1","Q2","Q3","Q4"]
["gage 1",null,null,null,null,null,null,null,"SET TARGET",{"$f":"'[4]2.Q-PROGRESS DASHBOARD'!$O$62","v":1369},{"$f":"'[4]2.Q-PROGRESS DASHBOARD'!$AB$62","v":845},{"$f":"'[4]2.Q-PROGRESS DASHBOARD'!$AP$62","v":1923},{"$f":"'[4]2.Q-PROGRESS DASHBOARD'!$BE$62","v":1619}]
[null,null,null,null,null,null,null,null,"UPDATED TARGET",{"$f":"J26","v":1369},{"$f":"'[4]2.Q-PROGRESS DASHBOARD'!$AA$62","v":971.33333333333326},{"$f":"'[4]2.Q-PROGRESS DASHBOARD'!$AO$62","v":1625.5},{"$f":"'[4]2.Q-PROGRESS DASHBOARD'!$BD$62","v":2573}]
["Start",0,null,null,null,null,null,null,"ACTUAL",{"$f":"'[4]2.Q-PROGRESS DASHBOARD'!$W$62","v":466},{"$f":"'[4]2.Q-PROGRESS DASHBOARD'!$AK$62","v":1506},{"$f":"'[4]2.Q-PROGRESS DASHBOARD'!$AZ$62","v":687},{"$f":"'[4]2.Q-PROGRESS DASHBOARD'!$BP$62","v":0}]
["Red",75]
["Yellow",15,null,null,null,null,null,null,"WE","Q1","Q2","Q3","Q4"]
["Green",15,null,null,null,null,null,null,"SET TARGET",{"$f":"'[2]2.Q-PROGRESS DASHBOARD'!$O$62","v":462},{"$f":"'[2]2.Q-PROGRESS DASHBOARD'!$AB$62","v":461},{"$f":"'[2]2.Q-PROGRESS DASHBOARD'!$AP$62","v":971},{"$f":"'[2]2.Q-PROGRESS DASHBOARD'!$BE$62","v":809}]
["Blank",100,null,null,null,null,null,null,"UPDATED TARGET",{"$f":"J31","v":462},{"$f":"'[2]2.Q-PROGRESS DASHBOARD'!$AA$62","v":587.66666666666674},{"$f":"'[2]2.Q-PROGRESS DASHBOARD'!$AO$62","v":1169},{"$f":"'[2]2.Q-PROGRESS DASHBOARD'!$BD$62","v":1863}]
[null,null,null,null,null,null,null,null,"ACTUAL",{"$f":"'[2]2.Q-PROGRESS DASHBOARD'!$W$62","v":82},{"$f":"'[2]2.Q-PROGRESS DASHBOARD'!$AK$62","v":445},{"$f":"'[2]2.Q-PROGRESS DASHBOARD'!$AZ$62","v":316},{"$f":"'[2]2.Q-PROGRESS DASHBOARD'!$BP$62","v":0}]
["Actual"]
["GV",{"$f":"'2.REGIONS DASHBOARD'!I62*100","v":99.884482094724675}]
["GV+",1]
["End",122]
[]
["GAUTENG",null,"KZN",null,"WESTERN CAPE"]
["GV",{"$f":"O15*100","v":140.89325957795532},"GV",{"$f":"S15*100","v":73.595350124550237},"GV",{"$f":"W15*100","v":44.350580781414997}]
["GV+",1,"GV+",1,"GV+",1]
["End",119,"End",119,"End",119]
[]
[]
[]
[]
[]
[]
[]
[]
[]
[]
[]
[]
[]
[]
[]
[]
[]
[]
[]
[]
[]
[]
[]
[]
[]
[]
[null,null,null,null,null,null,null,null,null,null,{"$f":"'2.REGIONS DASHBOARD'!I59*100","v":4134.4537815126205}]

{"sheet":"GAUGE CHART","index":1,"n_rows":83,"n_cols":20,"rows_kept":83,"cut":false,"hidden":false,"merged":[[0,0,1,3],[0,6,1,19],[4,0,4,3],[4,4,4,7],[4,8,4,11],[4,12,4,15],[4,16,4,19],[24,0,24,3],[24,4,24,7],[24,8,24,11],[24,12,24,15],[24,16,24,19],[14,0,14,3],[14,4,14,7],[14,8,14,11],[14,12,14,15],[14,16,14,19],[34,0,34,1],[34,2,34,3],[34,4,34,5],[34,6,34,7],[34,8,34,9],[25,18,25,19],[29,16,29,17],[30,17,30,19],[31,17,31,19],[32,17,32,19],[45,0,45,1],[45,2,45,3],[45,4,45,5],[45,6,45,7],[45,8,45,9],[40,0,40,1],[40,2,40,3],[40,4,40,5],[40,6,40,7],[40,8,40,9],[51,0,51,1],[51,2,51,3],[51,4,51,5],[51,6,51,7],[51,8,51,9],[50,0,50,1],[50,2,50,3],[50,4,50,5],[50,6,50,7],[50,8,50,9],[62,0,62,1],[62,2,62,3],[62,4,62,5],[62,6,62,7],[62,8,62,9],[57,0,57,1],[57,2,57,3],[57,4,57,5],[57,6,57,7],[57,8,57,9],[68,0,68,1],[68,2,68,3],[68,4,68,5],[68,6,68,7],[69,0,69,1],[69,2,69,3],[69,4,69,5],[69,6,69,7],[75,0,75,1],[75,2,75,3],[75,4,75,5],[75,6,75,7],[79,0,79,1],[79,2,79,3],[79,4,79,5],[79,6,79,7]]}
["GOVERNANCE - REGION KPI PERFORMANCE  DASHBOARD"]
[]
[]
[]
["4.2.1 TOTAL WORKERS ENTERED 1",null,null,null,"4.2.1 TOTAL WORKERS CERTIFICATED 2",null,null,null,"4.2.1  TOTAL UNEMPLOYED ENTERED 3",null,null,null,"4.2.1  TOTAL UNEMPLOYED CERTIFICATED 4",null,null,null," 4.2.1  TOTAL  ARTISANS ENTERED 5"]
[]
[]
[]
[]
[]
[]
[]
[]
[]
["4.2.3  WORKPLACE EXPERIENCE 6",null,null,null,"4.3.2 FET COLLEGE PARTNERSHIPS 7",null,null,null,"4.4. AET PROGRAMMES ENTERED 8",null,null,null,"4.4. AET PROGRAMMES CERTIFICATED 9",null,null,null,"4.6.1  CO-OPERATIVES 10"]
[]
[]
[]
[]
[]
[]
[]
[]
[]
["4.6.2  SMALL BUSINESS SUPPORT 11",null,null,null,"4.6.3  NGO, CBO,NLPE 12",null,null,null,"4.8 CAREER GUIDANCE 13",null,null,null," 4.2.1  TOTAL  ARTISANS CERTIFICATION 14",null,null,null,"GAGE LEGEND"]
[null,null,null,null,null,null,null,null,null,null,null,null,null,null,null,null,"GAGE ","% RAGE","ACTIVE GAGES"]
[null,null,null,null,null,null,null,null,null,null,null,null,null,null,null,null,null,"0 - 75%",null,"ACTIVE"]
[null,null,null,null,null,null,null,null,null,null,null,null,null,null,null,null,null,"76 - 99%",null,"NOT ACTIVE"]
[null,null,null,null,null,null,null,null,null,null,null,null,null,null,null,null,null,"100% +"]
[null,null,null,null,null,null,null,null,null,null,null,null,null,null,null,null,"INDICATOR"]
[null,null,null,null,null,null,null,null,null,null,null,null,null,null,null,null,"BLACK IND.","TOTAL PROGRAME PREFORMANCE."]
[null,null,null,null,null,null,null,null,null,null,null,null,null,null,null,null,"WHITE IND.","LOWEST PROGRAME IN SECTION."]
[null,null,null,null,null,null,null,null,null,null,null,null,null,null,null,null,"SINGEL IND.","SINGEL PROGRAME TO THE GAUGE"]
[]
["gage 1",null,"gage 2",null,"gage 3",null,"gage 4",null,"gage 5"]
["Start",0,"Start",0,"Start",0,"Start",0,"Start",0]
["Red",75,"Red",75,"Red",75,"Red",75,"Red",75]
["Yellow",15,"Yellow",15,"Yellow",15,"Yellow",15,"Yellow",15]
["Green",15,"Green",15,"Green",15,"Green",15,"Green",15]
["Blank",100,"Blank",100,"Blank",100,"Blank",100,"Blank",100]
["Actual",null,"Actual",null,"Actual",null,"Actual",null,"Actual"]
["GV",{"$f":"'2.REGIONS DASHBOARD'!I12*100","v":88.488765774084328},"GV",{"$f":"'2.REGIONS DASHBOARD'!I18*100","v":125.18032786885247},"GV",{"$f":"'2.REGIONS DASHBOARD'!I25*100","v":92.918088737201359},"GV",{"$f":"'2.REGIONS DASHBOARD'!I32*100","v":147.15111478117257},"GV",{"$f":"'2.REGIONS DASHBOARD'!I37*100","v":98.938053097345133}]
["GV+",1,"GV+",1,"GV+",1,"GV+",1,"GV+",1]
["End",122,"End",122,"End",122,"End",122,"End",122]
[]
["min",null,"min",null,"min",null,"min",null,"min"]
["GV",{"$f":"'2.REGIONS DASHBOARD'!I13*100","v":50},"GV",{"$f":"'2.REGIONS DASHBOARD'!I19*100","v":{"$error":"#DIV/0!"}},"GV",{"$f":"'2.REGIONS DASHBOARD'!I26*100","v":57.768924302788847},"GV",{"$f":"'2.REGIONS DASHBOARD'!I33*100","v":29.365079365079367},"GV",{"$f":"'2.REGIONS DASHBOARD'!I38*100","v":96.76025917926566}]
["GV+",1,"GV+",1,"GV+",1,"GV+",1,"GV+",1]
["End",119,"End",119,"End",119,"End",119,"End",119]
[]
["gage 6",null,"gage 7",null,"gage 8",null,"gage 9",null,"gage 10"]
["Gauge",null,"Gauge",null,"Gauge",null,"Gauge",null,"Gauge"]
["Start",0,"Start",0,"Start",0,"Start",0,"Start",0]
["Red",75,"Red",75,"Red",75,"Red",75,"Red",75]
["Yellow",15,"Yellow",15,"Yellow",15,"Yellow",15,"Yellow",15]
["Green",15,"Green",15,"Green",15,"Green",15,"Green",15]
["Blank",100,"Blank",100,"Blank",100,"Blank",100,"Blank",100]
["Actual",null,"Actual",null,"Actual",null,"Actual",null,"Actual"]
["GV",{"$f":"'2.REGIONS DASHBOARD'!I44*100","v":68.362831858407077},"GV",{"$f":"'2.REGIONS DASHBOARD'!I45*100","v":75},"GV",{"$f":"'2.REGIONS DASHBOARD'!I46*100","v":0},"GV",{"$f":"'2.REGIONS DASHBOARD'!I47*100","v":{"$error":"#DIV/0!"}},"GV",{"$f":"'2.REGIONS DASHBOARD'!I48*100","v":106.25}]
["GV+",1,"GV+",1,"GV+",1,"GV+",1,"GV+",1]
["End",122,"End",122,"End",122,"End",122,"End",122]
[]
["min",null,"min",null,"min",null,"min",null,"min"]
["GV",20,"GV",20,"GV",20,"GV",20,"GV",20]
["GV+",1,"GV+",1,"GV+",1,"GV+",1,"GV+",1]
["End",119,"End",119,"End",119,"End",119,"End",119]
[]
[]
["gage 11",null,"gage 12",null,"gage 13",null,"gage 14"]
["Gauge",null,"Gauge",null,"Gauge",null,"Gauge"]
["Start",0,"Start",0,"Start",0,"Start",0]
["Red",75,"Red",75,"Red",75,"Red",75]
["Yellow",15,"Yellow",15,"Yellow",15,"Yellow",15]
["Green",15,"Green",15,"Green",15,"Green",15]
["Blank",100,"Blank",100,"Blank",100,"Blank",100]
["Actual",null,"Actual",null,"Actual",null,"Actual",null,null,null,{"$f":"'2.REGIONS DASHBOARD'!I59*100","v":4134.4537815126205}]
["GV",{"$f":"'2.REGIONS DASHBOARD'!I49*100","v":71.428571428571445},"GV",{"$f":"'2.REGIONS DASHBOARD'!I57*100","v":25},"GV",{"$f":"IF(K76>140,140,K76)","v":140},"GV",{"$f":"'2.REGIONS DASHBOARD'!I42*100","v":94.904458598726109}]
["GV+",1,"GV+",1,"GV+",1,"GV+",1]
["End",122,"End",122,"End",122,"End",122]
["min",null,"min",null,"min",null,"min"]
["GV",20,"GV",{"$f":"'2.REGIONS DASHBOARD'!I58*100","v":0},"GV",20,"GV",{"$f":"'2.REGIONS DASHBOARD'!I43*100","v":89.090909090909093}]
["GV+",1,"GV+",1,"GV+",1,"GV+",1]
["End",119,"End",119,"End",119,"End",119]

{"sheet":"2.REGIONS DASHBOARD","index":2,"n_rows":62,"n_cols":57,"rows_kept":62,"cut":false,"hidden":false,"merged":[[5,26,5,32],[5,42,5,48],[3,26,3,40],[3,42,3,56],[1,0,4,0],[5,2,5,8],[3,2,3,8],[5,10,5,16],[3,10,3,24]]}
[]
["REGION  PERFORMANCE\nQ -PROGRESS DASHBOARD"]
[]
[null,null,"CHIETA SQMR OVERVIEW",null,null,null,null,null,null,null,"GAUTENG",null,null,null,null,null,null,null,null,null,null,null,null,null,null,null,"KZN",null,null,null,null,null,null,null,null,null,null,null,null,null,null,null,"WESTERN CAPE"]
[]
[null,null,"CHIETA OVERVIEW PERFORMANCE",null,null,null,null,null,null,null,"OVERVIEW PERFORMANCE",null,null,null,null,null,null,null,"Q1",null,"Q2",null,"Q3",null,"Q4",null,"OVERVIEW PERFORMANCE",null,null,null,null,null,null,null,"Q1",null,"Q2",null,"Q3",null,"Q4",null,"OVERVIEW PERFORMANCE",null,null,null,null,null,null,null,"Q1",null,"Q2",null,"Q3",null,"Q4"]
[null,null,"ANNUAL\nTARGET",{"$f":"'[6]2.Q-PROGRESS DASHBOARD'!$D$7","v":"YTD VARIANCE"},"YTD\nACTUAL","YTD\nBACKLOG","SUM",null,"YTD\nPERFORMANCE",null,"ANNUAL\nTARGET",{"$f":"'[6]2.Q-PROGRESS DASHBOARD'!$D$7","v":"YTD VARIANCE"},"YTD\nACTUAL","YTD\nBACKLOG","SUM",null,"YTD\nPERFORMANCE",null,"TARGET %",null,"TARGET %",null,"TARGET %",null,"TARGET %",null,"ANNUAL\nTARGET",{"$f":"'[6]2.Q-PROGRESS DASHBOARD'!$D$7","v":"YTD VARIANCE"},"YTD\nACTUAL","YTD\nBACKLOG","SUM",null,"YTD\nPERFORMANCE",null,"TARGET %",null,"TARGET %",null,"TARGET %",null,"TARGET %",null,"ANNUAL\nTARGET",{"$f":"'[6]2.Q-PROGRESS DASHBOARD'!$D$7","v":"YTD VARIANCE"},"YTD\nACTUAL","YTD\nBACKLOG","SUM",null,"YTD\nPERFORMANCE",null,"TARGET %",null,"TARGET %",null,"TARGET %",null,"TARGET %"]
["4.2.1 TOTAL WORKERS ENTERED"]
["4.2.1  LEARNER SHIPS WORKERS ENTERED",null,{"$f":"SUM(K9,AA9,AQ9)","v":1500},{"$f":"SUM(L9,AB9,AR9)","v":-246},{"$f":"SUM(M9,AC9,AS9)","v":1746},{"$f":"SUM(N9,AD9,AT9)","v":-697},{"$f":"SUM(E9,F9)","v":1049},null,{"$f":"E9/G9","v":1.6644423260247856},null,{"$f":"'[3]1.OVERVIEW CHART DASHBOARD'!C9","v":705},{"$f":"'[3]1.OVERVIEW CHART DASHBOARD'!D9","v":-576},{"$f":"'[3]1.OVERVIEW CHART DASHBOARD'!E9","v":1281},{"$f":"'[3]1.OVERVIEW CHART DASHBOARD'!F9","v":-788},{"$f":"SUM(M9,N9)","v":493},null,{"$f":"M9/O9","v":2.5983772819472617},null,{"$f":"'[3]1.OVERVIEW CHART DASHBOARD'!J9","v":1.8439716312056738},null,{"$f":"'[3]1.OVERVIEW CHART DASHBOARD'!L9","v":6.3453947368421044},null,{"$f":"'[3]1.OVERVIEW CHART DASHBOARD'!N9","v":-3.7989949748743728},null,{"$f":"'[3]1.OVERVIEW CHART DASHBOARD'!P9","v":0},null,{"$f":"'[4]1.OVERVIEW CHART DASHBOARD'!C9","v":525},{"$f":"'[4]1.OVERVIEW CHART DASHBOARD'!D9","v":194},{"$f":"'[4]1.OVERVIEW CHART DASHBOARD'!E9","v":331},{"$f":"'[4]1.OVERVIEW CHART DASHBOARD'!F9","v":36},{"$f":"SUM(AC9,AD9)","v":367},null,{"$f":"AC9/AE9","v":0.90190735694822888},null,{"$f":"'[4]1.OVERVIEW CHART DASHBOARD'!J9","v":0.8571428571428571},null,{"$f":"'[4]1.OVERVIEW CHART DASHBOARD'!L9","v":0.79090909090909089},null,{"$f":"'[4]1.OVERVIEW CHART DASHBOARD'!N9","v":0.88760806916426516},null,{"$f":"'[4]1.OVERVIEW CHART DASHBOARD'!P9","v":0},null,{"$f":"'[2]1.OVERVIEW CHART DASHBOARD'!C9","v":270},{"$f":"'[2]1.OVERVIEW CHART DASHBOARD'!D9","v":136},{"$f":"'[2]1.OVERVIEW CHART DASHBOARD'!E9","v":134},{"$f":"'[2]1.OVERVIEW CHART DASHBOARD'!F9","v":55},{"$f":"SUM(AS9,AT9)","v":189},null,{"$f":"AS9/AU9","v":0.70899470899470896},null,{"$f":"'[2]1.OVERVIEW CHART DASHBOARD'!J9","v":0.46296296296296297},null,{"$f":"'[2]1.OVERVIEW CHART DASHBOARD'!L9","v":0.92670157068062831},null,{"$f":"'[2]1.OVERVIEW CHART DASHBOARD'!N9","v":0.5376344086021505},null,{"$f":"'[2]1.OVERVIEW CHART DASHBOARD'!P9","v":0}]
["4.2.1  BURSARIES WORKERS ENTERED",null,{"$f":"SUM(K10,AA10,AQ10)","v":100},{"$f":"SUM(L10,AB10,AR10)","v":21},{"$f":"SUM(M10,AC10,AS10)","v":79},{"$f":"SUM(N10,AD10,AT10)","v":21},{"$f":"SUM(E10,F10)","v":100},null,{"$f":"E10/G10","v":0.79},null,{"$f":"'[3]1.OVERVIEW CHART DASHBOARD'!C10","v":47},{"$f":"'[3]1.OVERVIEW CHART DASHBOARD'!D10","v":-11},{"$f":"'[3]1.OVERVIEW CHART DASHBOARD'!E10","v":58},{"$f":"'[3]1.OVERVIEW CHART DASHBOARD'!F10","v":-11},{"$f":"SUM(M10,N10)","v":47},null,{"$f":"M10/O10","v":1.2340425531914894},null,{"$f":"'[3]1.OVERVIEW CHART DASHBOARD'!J10","v":"NO TARGET"},null,{"$f":"'[3]1.OVERVIEW CHART DASHBOARD'!L10","v":"NO TARGET"},null,{"$f":"'[3]1.OVERVIEW CHART DASHBOARD'!N10","v":1.0649350649350648},null,{"$f":"'[3]1.OVERVIEW CHART DASHBOARD'!P10","v":"NO TARGET"},null,{"$f":"'[4]1.OVERVIEW CHART DASHBOARD'!C10","v":35},{"$f":"'[4]1.OVERVIEW CHART DASHBOARD'!D10","v":30},{"$f":"'[4]1.OVERVIEW CHART DASHBOARD'!E10","v":5},{"$f":"'[4]1.OVERVIEW CHART DASHBOARD'!F10","v":30},{"$f":"SUM(AC10,AD10)","v":35},null,{"$f":"AC10/AE10","v":0.14285714285714285},null,{"$f":"'[4]1.OVERVIEW CHART DASHBOARD'!J10","v":"NO TARGET"},null,{"$f":"'[4]1.OVERVIEW CHART DASHBOARD'!L10","v":"NO TARGET"},null,{"$f":"'[4]1.OVERVIEW CHART DASHBOARD'!N10","v":0},null,{"$f":"'[4]1.OVERVIEW CHART DASHBOARD'!P10","v":"NO TARGET"},null,{"$f":"'[2]1.OVERVIEW CHART DASHBOARD'!C10","v":18},{"$f":"'[2]1.OVERVIEW CHART DASHBOARD'!D10","v":2},{"$f":"'[2]1.OVERVIEW CHART DASHBOARD'!E10","v":16},{"$f":"'[2]1.OVERVIEW CHART DASHBOARD'!F10","v":2},{"$f":"SUM(AS10,AT10)","v":18},null,{"$f":"AS10/AU10","v":0.88888888888888884},null,{"$f":"'[2]1.OVERVIEW CHART DASHBOARD'!J10","v":"NO TARGET"},null,{"$f":"'[2]1.OVERVIEW CHART DASHBOARD'!L10","v":"NO TARGET"},null,{"$f":"'[2]1.OVERVIEW CHART DASHBOARD'!N10","v":0},null,{"$f":"'[2]1.OVERVIEW CHART DASHBOARD'!P10","v":"NO TARGET"}]
["4.2.1 SKILLS PROGRAMMES WORKERS ENTERED",null,3000,1950,1050,1050,2100,null,0.5,null,{"$f":"'[3]1.OVERVIEW CHART DASHBOARD'!C11","v":1410},{"$f":"'[3]1.OVERVIEW CHART DASHBOARD'!D11","v":650},{"$f":"'[3]1.OVERVIEW CHART DASHBOARD'!E11","v":760},{"$f":"'[3]1.OVERVIEW CHART DASHBOARD'!F11","v":227},987,null,0.7700101317122594,null,{"$f":"'[3]1.OVERVIEW CHART DASHBOARD'!J11","v":7.8014184397163122E-2},null,{"$f":"'[3]1.OVERVIEW CHART DASHBOARD'!L11","v":0.63743218806509938},null,{"$f":"'[3]1.OVERVIEW CHART DASHBOARD'!N11","v":0.87250650477016478},null,{"$f":"'[3]1.OVERVIEW CHART DASHBOARD'!P11","v":0},null,{"$f":"'[4]1.OVERVIEW CHART DASHBOARD'!C11","v":1050},{"$f":"'[4]1.OVERVIEW CHART DASHBOARD'!D11","v":761},{"$f":"'[4]1.OVERVIEW CHART DASHBOARD'!E11","v":289},{"$f":"'[4]1.OVERVIEW CHART DASHBOARD'!F11","v":446},735,null,0.39319727891156464,null,{"$f":"'[4]1.OVERVIEW CHART DASHBOARD'!J11","v":2.8571428571428571E-2},null,{"$f":"'[4]1.OVERVIEW CHART DASHBOARD'!L11","v":0.96762589928057552},null,{"$f":"'[4]1.OVERVIEW CHART DASHBOARD'!N11","v":4.3410852713178294E-2},null,{"$f":"'[4]1.OVERVIEW CHART DASHBOARD'!P11","v":0},null,{"$f":"'[2]1.OVERVIEW CHART DASHBOARD'!C11","v":540},{"$f":"'[2]1.OVERVIEW CHART DASHBOARD'!D11","v":539},{"$f":"'[2]1.OVERVIEW CHART DASHBOARD'!E11","v":1},{"$f":"'[2]1.OVERVIEW CHART DASHBOARD'!F11","v":377},378,null,2.6455026455026454E-3,null,{"$f":"'[2]1.OVERVIEW CHART DASHBOARD'!J11","v":9.2592592592592587E-3},null,{"$f":"'[2]1.OVERVIEW CHART DASHBOARD'!L11","v":0},null,{"$f":"'[2]1.OVERVIEW CHART DASHBOARD'!N11","v":0},null,{"$f":"'[2]1.OVERVIEW CHART DASHBOARD'!P11","v":0}]
["TOTALS",null,4600,1725,2875,374,3249,null,0.88488765774084333,null,{"$f":"'[3]1.OVERVIEW CHART DASHBOARD'!C12","v":2162},{"$f":"'[3]1.OVERVIEW CHART DASHBOARD'!D12","v":63},{"$f":"'[3]1.OVERVIEW CHART DASHBOARD'!E12","v":2099},{"$f":"'[3]1.OVERVIEW CHART DASHBOARD'!F12","v":-572},1527,null,1.3745907007203668,null,{"$f":"'[3]1.OVERVIEW CHART DASHBOARD'!J12","v":0.66666666666666663},null,{"$f":"'[3]1.OVERVIEW CHART DASHBOARD'!L12","v":1.9042553191489362},null,{"$f":"'[3]1.OVERVIEW CHART DASHBOARD'!N12","v":1.7885548011639185},null,{"$f":"'[3]1.OVERVIEW CHART DASHBOARD'!P12","v":0},null,{"$f":"'[4]1.OVERVIEW CHART DASHBOARD'!C12","v":1610},{"$f":"'[4]1.OVERVIEW CHART DASHBOARD'!D12","v":985},{"$f":"'[4]1.OVERVIEW CHART DASHBOARD'!E12","v":625},{"$f":"'[4]1.OVERVIEW CHART DASHBOARD'!F12","v":512},1137,null,0.54969217238346524,null,{"$f":"'[4]1.OVERVIEW CHART DASHBOARD'!J12","v":0.30476190476190479},null,{"$f":"'[4]1.OVERVIEW CHART DASHBOARD'!L12","v":0.93041237113402064},null,{"$f":"'[4]1.OVERVIEW CHART DASHBOARD'!N12","v":0.31788079470198677},null,{"$f":"'[4]1.OVERVIEW CHART DASHBOARD'!P12","v":0},null,{"$f":"'[2]1.OVERVIEW CHART DASHBOARD'!C12","v":828},{"$f":"'[2]1.OVERVIEW CHART DASHBOARD'!D12","v":677},{"$f":"'[2]1.OVERVIEW CHART DASHBOARD'!E12","v":151},{"$f":"'[2]1.OVERVIEW CHART DASHBOARD'!F12","v":434},585,null,0.25811965811965815,null,{"$f":"'[2]1.OVERVIEW CHART DASHBOARD'!J12","v":0.16049382716049382},null,{"$f":"'[2]1.OVERVIEW CHART DASHBOARD'!L12","v":0.36173633440514474},null,{"$f":"'[2]1.OVERVIEW CHART DASHBOARD'!N12","v":0.13422818791946309},null,{"$f":"'[2]1.OVERVIEW CHART DASHBOARD'!P12","v":0}]
[null,null,null,null,null,null,null,null,{"$f":"MIN(I9:I11)","v":0.5}]
["4.2.1 TOTAL WORKERS CERTIFICATED"]
["4.2.1  LEARNER SHIPS WORKERS CERTIFICATED",null,751,-28,779,-254,525,null,1.4838095238095239,null,{"$f":"'[3]1.OVERVIEW CHART DASHBOARD'!C15","v":353},{"$f":"'[3]1.OVERVIEW CHART DASHBOARD'!D15","v":-149},{"$f":"'[3]1.OVERVIEW CHART DASHBOARD'!E15","v":502},{"$f":"'[3]1.OVERVIEW CHART DASHBOARD'!F15","v":-255},247,null,2.0323886639676112,null,{"$f":"'[3]1.OVERVIEW CHART DASHBOARD'!J15","v":1.8169014084507042},null,{"$f":"'[3]1.OVERVIEW CHART DASHBOARD'!L15","v":4.6064516129032258},null,{"$f":"'[3]1.OVERVIEW CHART DASHBOARD'!N15","v":-18.000000000000036},null,{"$f":"'[3]1.OVERVIEW CHART DASHBOARD'!P15","v":0},null,{"$f":"'[4]1.OVERVIEW CHART DASHBOARD'!C15","v":263},{"$f":"'[4]1.OVERVIEW CHART DASHBOARD'!D15","v":55},{"$f":"'[4]1.OVERVIEW CHART DASHBOARD'!E15","v":208},{"$f":"'[4]1.OVERVIEW CHART DASHBOARD'!F15","v":-24},184,null,1.1304347826086956,null,{"$f":"'[4]1.OVERVIEW CHART DASHBOARD'!J15","v":1},null,{"$f":"'[4]1.OVERVIEW CHART DASHBOARD'!L15","v":1.0377358490566038},null,{"$f":"'[4]1.OVERVIEW CHART DASHBOARD'!N15","v":1.2987012987012987},null,{"$f":"'[4]1.OVERVIEW CHART DASHBOARD'!P15","v":0},null,{"$f":"'[2]1.OVERVIEW CHART DASHBOARD'!C15","v":135},{"$f":"'[2]1.OVERVIEW CHART DASHBOARD'!D15","v":66},{"$f":"'[2]1.OVERVIEW CHART DASHBOARD'!E15","v":69},{"$f":"'[2]1.OVERVIEW CHART DASHBOARD'!F15","v":25},94,null,0.73404255319148937,null,{"$f":"'[2]1.OVERVIEW CHART DASHBOARD'!J15","v":3.7037037037037035E-2},null,{"$f":"'[2]1.OVERVIEW CHART DASHBOARD'!L15","v":2.8037383177570097E-2},null,{"$f":"'[2]1.OVERVIEW CHART DASHBOARD'!N15","v":1.0151515151515151},null,{"$f":"'[2]1.OVERVIEW CHART DASHBOARD'!P15","v":0}]
["4.2.1  BURSARIES WORKERS CERTIFICATED",null,60,55,5,-5,0,null,{"$error":"#DIV/0!"},null,{"$f":"'[3]1.OVERVIEW CHART DASHBOARD'!C16","v":24},{"$f":"'[3]1.OVERVIEW CHART DASHBOARD'!D16","v":24},{"$f":"'[3]1.OVERVIEW CHART DASHBOARD'!E16","v":0},{"$f":"'[3]1.OVERVIEW CHART DASHBOARD'!F16","v":0},0,null,{"$error":"#DIV/0!"},null,{"$f":"'[3]1.OVERVIEW CHART DASHBOARD'!J16","v":"NO TARGET"},null,{"$f":"'[3]1.OVERVIEW CHART DASHBOARD'!L16","v":"NO TARGET"},null,{"$f":"'[3]1.OVERVIEW CHART DASHBOARD'!N16","v":"NO TARGET"},null,{"$f":"'[3]1.OVERVIEW CHART DASHBOARD'!P16","v":0},null,{"$f":"'[4]1.OVERVIEW CHART DASHBOARD'!C16","v":18},{"$f":"'[4]1.OVERVIEW CHART DASHBOARD'!D16","v":18},{"$f":"'[4]1.OVERVIEW CHART DASHBOARD'!E16","v":0},{"$f":"'[4]1.OVERVIEW CHART DASHBOARD'!F16","v":0},0,null,{"$error":"#DIV/0!"},null,{"$f":"'[4]1.OVERVIEW CHART DASHBOARD'!J16","v":"NO TARGET"},null,{"$f":"'[4]1.OVERVIEW CHART DASHBOARD'!L16","v":"NO TARGET"},null,{"$f":"'[4]1.OVERVIEW CHART DASHBOARD'!N16","v":"NO TARGET"},null,{"$f":"'[4]1.OVERVIEW CHART DASHBOARD'!P16","v":0},null,{"$f":"'[2]1.OVERVIEW CHART DASHBOARD'!C16","v":18},{"$f":"'[2]1.OVERVIEW CHART DASHBOARD'!D16","v":13},{"$f":"'[2]1.OVERVIEW CHART DASHBOARD'!E16","v":5},{"$f":"'[2]1.OVERVIEW CHART DASHBOARD'!F16","v":-5},0,null,{"$error":"#DIV/0!"},null,{"$f":"'[2]1.OVERVIEW CHART DASHBOARD'!J16","v":"NO TARGET"},null,{"$f":"'[2]1.OVERVIEW CHART DASHBOARD'!L16","v":"NO TARGET"},null,{"$f":"'[2]1.OVERVIEW CHART DASHBOARD'!N16","v":"NO TARGET"},null,{"$f":"'[2]1.OVERVIEW CHART DASHBOARD'!P16","v":0}]
["4.2.1 SKILLS PROGRAMMES WORKERS CERTIFICATED",null,1504,379,1125,-125,1000,null,1.125,null,{"$f":"'[3]1.OVERVIEW CHART DASHBOARD'!C17","v":709},{"$f":"'[3]1.OVERVIEW CHART DASHBOARD'!D17","v":105},{"$f":"'[3]1.OVERVIEW CHART DASHBOARD'!E17","v":604},{"$f":"'[3]1.OVERVIEW CHART DASHBOARD'!F17","v":-133},471,null,1.2823779193205944,null,{"$f":"'[3]1.OVERVIEW CHART DASHBOARD'!J17","v":2.564102564102564E-2},null,{"$f":"'[3]1.OVERVIEW CHART DASHBOARD'!L17","v":1.9548387096774194},null,{"$f":"'[3]1.OVERVIEW CHART DASHBOARD'!N17","v":1.4825870646766168},null,{"$f":"'[3]1.OVERVIEW CHART DASHBOARD'!P17","v":0},null,{"$f":"'[4]1.OVERVIEW CHART DASHBOARD'!C17","v":525},{"$f":"'[4]1.OVERVIEW CHART DASHBOARD'!D17","v":115},{"$f":"'[4]1.OVERVIEW CHART DASHBOARD'!E17","v":410},{"$f":"'[4]1.OVERVIEW CHART DASHBOARD'!F17","v":-61},349,null,1.174785100286533,null,{"$f":"'[4]1.OVERVIEW CHART DASHBOARD'!J17","v":3.4482758620689655E-2},null,{"$f":"'[4]1.OVERVIEW CHART DASHBOARD'!L17","v":3.5130434782608697},null,{"$f":"'[4]1.OVERVIEW CHART DASHBOARD'!N17","v":5.128205128205128E-2},null,{"$f":"'[4]1.OVERVIEW CHART DASHBOARD'!P17","v":0},null,{"$f":"'[2]1.OVERVIEW CHART DASHBOARD'!C17","v":270},{"$f":"'[2]1.OVERVIEW CHART DASHBOARD'!D17","v":159},{"$f":"'[2]1.OVERVIEW CHART DASHBOARD'!E17","v":111},{"$f":"'[2]1.OVERVIEW CHART DASHBOARD'!F17","v":69},180,null,0.6166666666666667,null,{"$f":"'[2]1.OVERVIEW CHART DASHBOARD'!J17","v":0},null,{"$f":"'[2]1.OVERVIEW CHART DASHBOARD'!L17","v":1.8},null,{"$f":"'[2]1.OVERVIEW CHART DASHBOARD'!N17","v":3.7037037037037035E-2},null,{"$f":"'[2]1.OVERVIEW CHART DASHBOARD'!P17","v":0}]
["TOTALS",null,2315,406,1909,-384,1525,null,1.2518032786885247,null,{"$f":"'[3]1.OVERVIEW CHART DASHBOARD'!C18","v":1086},{"$f":"'[3]1.OVERVIEW CHART DASHBOARD'!D18","v":-20},{"$f":"'[3]1.OVERVIEW CHART DASHBOARD'!E18","v":1106},{"$f":"'[3]1.OVERVIEW CHART DASHBOARD'!F18","v":-388},718,null,1.5403899721448469,null,{"$f":"'[3]1.OVERVIEW CHART DASHBOARD'!J18","v":0.7021276595744681},null,{"$f":"'[3]1.OVERVIEW CHART DASHBOARD'!L18","v":2.6177419354838709},null,{"$f":"'[3]1.OVERVIEW CHART DASHBOARD'!N18","v":2.2377260981912146},null,{"$f":"'[3]1.OVERVIEW CHART DASHBOARD'!P18","v":0},null,{"$f":"'[4]1.OVERVIEW CHART DASHBOARD'!C18","v":806},{"$f":"'[4]1.OVERVIEW CHART DASHBOARD'!D18","v":188},{"$f":"'[4]1.OVERVIEW CHART DASHBOARD'!E18","v":618},{"$f":"'[4]1.OVERVIEW CHART DASHBOARD'!F18","v":-85},533,null,1.1594746716697937,null,{"$f":"'[4]1.OVERVIEW CHART DASHBOARD'!J18","v":0.4},null,{"$f":"'[4]1.OVERVIEW CHART DASHBOARD'!L18","v":2.7321428571428572},null,{"$f":"'[4]1.OVERVIEW CHART DASHBOARD'!N18","v":0.76014760147601479},null,{"$f":"'[4]1.OVERVIEW CHART DASHBOARD'!P18","v":0},null,{"$f":"'[2]1.OVERVIEW CHART DASHBOARD'!C18","v":423},{"$f":"'[2]1.OVERVIEW CHART DASHBOARD'!D18","v":238},{"$f":"'[2]1.OVERVIEW CHART DASHBOARD'!E18","v":185},{"$f":"'[2]1.OVERVIEW CHART DASHBOARD'!F18","v":89},274,null,0.67518248175182483,null,{"$f":"'[2]1.OVERVIEW CHART DASHBOARD'!J18","v":1.3888888888888888E-2},null,{"$f":"'[2]1.OVERVIEW CHART DASHBOARD'!L18","v":1.1393728222996518},null,{"$f":"'[2]1.OVERVIEW CHART DASHBOARD'!N18","v":0.51020408163265307},null,{"$f":"'[2]1.OVERVIEW CHART DASHBOARD'!P18","v":0}]
[null,null,null,null,null,null,null,null,{"$f":"MIN(I15:I17)","v":{"$error":"#DIV/0!"}}]
["4.2.1  TOTAL UNEMPLOYED ENTERED"]
["4.2.1  LEARNER SHIPS UNEMPLOYED ENTERED",null,2000,619,1381,-86,1295,null,1.0664092664092664,null,{"$f":"'[3]1.OVERVIEW CHART DASHBOARD'!C21","v":940},{"$f":"'[3]1.OVERVIEW CHART DASHBOARD'!D21","v":-8},{"$f":"'[3]1.OVERVIEW CHART DASHBOARD'!E21","v":948},{"$f":"'[3]1.OVERVIEW CHART DASHBOARD'!F21","v":-314},634,null,1.4952681388012619,null,{"$f":"'[3]1.OVERVIEW CHART DASHBOARD'!J21","v":2.0975609756097562},null,{"$f":"'[3]1.OVERVIEW CHART DASHBOARD'!L21","v":1.8269230769230769},null,{"$f":"'[3]1.OVERVIEW CHART DASHBOARD'!N21","v":2.0394088669950738},null,{"$f":"'[3]1.OVERVIEW CHART DASHBOARD'!P21","v":0},null,{"$f":"'[4]1.OVERVIEW CHART DASHBOARD'!C21","v":700},{"$f":"'[4]1.OVERVIEW CHART DASHBOARD'!D21","v":345},{"$f":"'[4]1.OVERVIEW CHART DASHBOARD'!E21","v":355},{"$f":"'[4]1.OVERVIEW CHART DASHBOARD'!F21","v":63},418,null,0.84928229665071775,null,{"$f":"'[4]1.OVERVIEW CHART DASHBOARD'!J21","v":2.5441176470588234},null,{"$f":"'[4]1.OVERVIEW CHART DASHBOARD'!L21","v":1.7575757575757576},null,{"$f":"'[4]1.OVERVIEW CHART DASHBOARD'!N21","v":0.52878464818763327},null,{"$f":"'[4]1.OVERVIEW CHART DASHBOARD'!P21","v":0},null,{"$f":"'[2]1.OVERVIEW CHART DASHBOARD'!C21","v":360},{"$f":"'[2]1.OVERVIEW CHART DASHBOARD'!D21","v":282},{"$f":"'[2]1.OVERVIEW CHART DASHBOARD'!E21","v":78},{"$f":"'[2]1.OVERVIEW CHART DASHBOARD'!F21","v":165},243,null,0.32098765432098764,null,{"$f":"'[2]1.OVERVIEW CHART DASHBOARD'!J21","v":0.73015873015873012},null,{"$f":"'[2]1.OVERVIEW CHART DASHBOARD'!L21","v":0.20388349514563106},null,{"$f":"'[2]1.OVERVIEW CHART DASHBOARD'!N21","v":0.12},null,{"$f":"'[2]1.OVERVIEW CHART DASHBOARD'!P21","v":0}]
["4.2.1 BURSARY UNEMPLOYED ENTERED",null,251,106,145,106,251,null,0.57768924302788849,null,{"$f":"'[3]1.OVERVIEW CHART DASHBOARD'!C22","v":118},{"$f":"'[3]1.OVERVIEW CHART DASHBOARD'!D22","v":68},{"$f":"'[3]1.OVERVIEW CHART DASHBOARD'!E22","v":50},{"$f":"'[3]1.OVERVIEW CHART DASHBOARD'!F22","v":68},118,null,0.42372881355932202,null,{"$f":"'[3]1.OVERVIEW CHART DASHBOARD'!J22","v":"NO TARGET"},null,{"$f":"'[3]1.OVERVIEW CHART DASHBOARD'!L22","v":"NO TARGET"},null,{"$f":"'[3]1.OVERVIEW CHART DASHBOARD'!N22","v":0},null,{"$f":"'[3]1.OVERVIEW CHART DASHBOARD'!P22","v":"NO TARGET"},null,{"$f":"'[4]1.OVERVIEW CHART DASHBOARD'!C22","v":88},{"$f":"'[4]1.OVERVIEW CHART DASHBOARD'!D22","v":50},{"$f":"'[4]1.OVERVIEW CHART DASHBOARD'!E22","v":38},{"$f":"'[4]1.OVERVIEW CHART DASHBOARD'!F22","v":50},88,null,0.43181818181818182,null,{"$f":"'[4]1.OVERVIEW CHART DASHBOARD'!J22","v":"NO TARGET"},null,{"$f":"'[4]1.OVERVIEW CHART DASHBOARD'!L22","v":"NO TARGET"},null,{"$f":"'[4]1.OVERVIEW CHART DASHBOARD'!N22","v":0},null,{"$f":"'[4]1.OVERVIEW CHART DASHBOARD'!P22","v":"NO TARGET"},null,{"$f":"'[2]1.OVERVIEW CHART DASHBOARD'!C22","v":45},{"$f":"'[2]1.OVERVIEW CHART DASHBOARD'!D22","v":-11.999999999999996},{"$f":"'[2]1.OVERVIEW CHART DASHBOARD'!E22","v":57},{"$f":"'[2]1.OVERVIEW CHART DASHBOARD'!F22","v":-11.999999999999996},45,null,1.2666666666666666,null,{"$f":"'[2]1.OVERVIEW CHART DASHBOARD'!J22","v":"NO TARGET"},null,{"$f":"'[2]1.OVERVIEW CHART DASHBOARD'!L22","v":"NO TARGET"},null,{"$f":"'[2]1.OVERVIEW CHART DASHBOARD'!N22","v":0},null,{"$f":"'[2]1.OVERVIEW CHART DASHBOARD'!P22","v":"NO TARGET"}]
["4.2.1 INTERNSHIPS UNEMPLOYED ENTERED",null,100,1.0000000000000036,99,-50,49,null,2.0204081632653059,null,{"$f":"'[3]1.OVERVIEW CHART DASHBOARD'!C23","v":47},{"$f":"'[3]1.OVERVIEW CHART DASHBOARD'!D23","v":-14},{"$f":"'[3]1.OVERVIEW CHART DASHBOARD'!E23","v":61},{"$f":"'[3]1.OVERVIEW CHART DASHBOARD'!F23","v":-38},23,null,2.652173913043478,null,{"$f":"'[3]1.OVERVIEW CHART DASHBOARD'!J23","v":"NO TARGET"},null,{"$f":"'[3]1.OVERVIEW CHART DASHBOARD'!L23","v":"NO TARGET"},null,{"$f":"'[3]1.OVERVIEW CHART DASHBOARD'!N23","v":-0.14285714285714285},null,{"$f":"'[3]1.OVERVIEW CHART DASHBOARD'!P23","v":0},null,{"$f":"'[4]1.OVERVIEW CHART DASHBOARD'!C23","v":35},{"$f":"'[4]1.OVERVIEW CHART DASHBOARD'!D23","v":3.0000000000000036},{"$f":"'[4]1.OVERVIEW CHART DASHBOARD'!E23","v":32},{"$f":"'[4]1.OVERVIEW CHART DASHBOARD'!F23","v":-14.999999999999996},17.000000000000004,null,1.8823529411764701,null,{"$f":"'[4]1.OVERVIEW CHART DASHBOARD'!J23","v":"NO TARGET"},null,{"$f":"'[4]1.OVERVIEW CHART DASHBOARD'!L23","v":"NO TARGET"},null,{"$f":"'[4]1.OVERVIEW CHART DASHBOARD'!N23","v":0},null,{"$f":"'[4]1.OVERVIEW CHART DASHBOARD'!P23","v":0},null,{"$f":"'[2]1.OVERVIEW CHART DASHBOARD'!C23","v":18},{"$f":"'[2]1.OVERVIEW CHART DASHBOARD'!D23","v":12},{"$f":"'[2]1.OVERVIEW CHART DASHBOARD'!E23","v":6},{"$f":"'[2]1.OVERVIEW CHART DASHBOARD'!F23","v":3},9,null,0.66666666666666663,null,{"$f":"'[2]1.OVERVIEW CHART DASHBOARD'!J23","v":"NO TARGET"},null,{"$f":"'[2]1.OVERVIEW CHART DASHBOARD'!L23","v":"NO TARGET"},null,{"$f":"'[2]1.OVERVIEW CHART DASHBOARD'!N23","v":0},null,{"$f":"'[2]1.OVERVIEW CHART DASHBOARD'!P23","v":0}]
["4.2.1 SKILLS PROGRAMMES UNEMPLOYED ENTERED",null,1000,447,553,196,749,null,0.73831775700934577,null,{"$f":"'[3]1.OVERVIEW CHART DASHBOARD'!C24","v":470},{"$f":"'[3]1.OVERVIEW CHART DASHBOARD'!D24","v":167},{"$f":"'[3]1.OVERVIEW CHART DASHBOARD'!E24","v":303},{"$f":"'[3]1.OVERVIEW CHART DASHBOARD'!F24","v":48},351,null,0.86324786324786329,null,{"$f":"'[3]1.OVERVIEW CHART DASHBOARD'!J24","v":5.128205128205128E-2},null,{"$f":"'[3]1.OVERVIEW CHART DASHBOARD'!L24","v":1.9220779220779221},null,{"$f":"'[3]1.OVERVIEW CHART DASHBOARD'!N24","v":1.2048192771084338E-2},null,{"$f":"'[3]1.OVERVIEW CHART DASHBOARD'!P24","v":0},null,{"$f":"'[4]1.OVERVIEW CHART DASHBOARD'!C24","v":350},{"$f":"'[4]1.OVERVIEW CHART DASHBOARD'!D24","v":125},{"$f":"'[4]1.OVERVIEW CHART DASHBOARD'!E24","v":225},{"$f":"'[4]1.OVERVIEW CHART DASHBOARD'!F24","v":38},263,null,0.85551330798479086,null,{"$f":"'[4]1.OVERVIEW CHART DASHBOARD'!J24","v":0},null,{"$f":"'[4]1.OVERVIEW CHART DASHBOARD'!L24","v":1.0397727272727273},null,{"$f":"'[4]1.OVERVIEW CHART DASHBOARD'!N24","v":1.7758620689655173},null,{"$f":"'[4]1.OVERVIEW CHART DASHBOARD'!P24","v":0},null,{"$f":"'[2]1.OVERVIEW CHART DASHBOARD'!C24","v":180},{"$f":"'[2]1.OVERVIEW CHART DASHBOARD'!D24","v":155},{"$f":"'[2]1.OVERVIEW CHART DASHBOARD'!E24","v":25},{"$f":"'[2]1.OVERVIEW CHART DASHBOARD'!F24","v":110},135,null,0.18518518518518517,null,{"$f":"'[2]1.OVERVIEW CHART DASHBOARD'!J24","v":4.4444444444444446E-2},null,{"$f":"'[2]1.OVERVIEW CHART DASHBOARD'!L24","v":0},null,{"$f":"'[2]1.OVERVIEW CHART DASHBOARD'!N24","v":0.25842696629213485},null,{"$f":"'[2]1.OVERVIEW CHART DASHBOARD'!P24","v":0}]
["TOTALS",null,3351,1173,2178,166,2344,null,0.92918088737201365,null,{"$f":"'[3]1.OVERVIEW CHART DASHBOARD'!C25","v":1575},{"$f":"'[3]1.OVERVIEW CHART DASHBOARD'!D25","v":213},{"$f":"'[3]1.OVERVIEW CHART DASHBOARD'!E25","v":1362},{"$f":"'[3]1.OVERVIEW CHART DASHBOARD'!F25","v":-236},1126,null,1.2095914742451155,null,{"$f":"'[3]1.OVERVIEW CHART DASHBOARD'!J25","v":1.4448398576512456},null,{"$f":"'[3]1.OVERVIEW CHART DASHBOARD'!L25","v":2.2562674094707522},null,{"$f":"'[3]1.OVERVIEW CHART DASHBOARD'!N25","v":1.118279569892473},null,{"$f":"'[3]1.OVERVIEW CHART DASHBOARD'!P25","v":0},null,{"$f":"'[4]1.OVERVIEW CHART DASHBOARD'!C25","v":1173},{"$f":"'[4]1.OVERVIEW CHART DASHBOARD'!D25","v":523},{"$f":"'[4]1.OVERVIEW CHART DASHBOARD'!E25","v":650},{"$f":"'[4]1.OVERVIEW CHART DASHBOARD'!F25","v":136},786,null,0.82697201017811706,null,{"$f":"'[4]1.OVERVIEW CHART DASHBOARD'!J25","v":1.358974358974359},null,{"$f":"'[4]1.OVERVIEW CHART DASHBOARD'!L25","v":1.5364077669902911},null,{"$f":"'[4]1.OVERVIEW CHART DASHBOARD'!N25","v":0.62620689655172412},null,{"$f":"'[4]1.OVERVIEW CHART DASHBOARD'!P25","v":0},null,{"$f":"'[2]1.OVERVIEW CHART DASHBOARD'!C25","v":603},{"$f":"'[2]1.OVERVIEW CHART DASHBOARD'!D25","v":437},{"$f":"'[2]1.OVERVIEW CHART DASHBOARD'!E25","v":166},{"$f":"'[2]1.OVERVIEW CHART DASHBOARD'!F25","v":266},432,null,0.38425925925925924,null,{"$f":"'[2]1.OVERVIEW CHART DASHBOARD'!J25","v":0.49074074074074076},null,{"$f":"'[2]1.OVERVIEW CHART DASHBOARD'!L25","v":0.56992084432717671},null,{"$f":"'[2]1.OVERVIEW CHART DASHBOARD'!N25","v":0.15678776290630975},null,{"$f":"'[2]1.OVERVIEW CHART DASHBOARD'!P25","v":0}]
[null,null,null,null,null,null,null,null,{"$f":"MIN(I21:I24)","v":0.57768924302788849}]
["4.2.1  TOTAL UNEMPLOYED CERTIFICATED"]
["4.2.1  LEARNER SHIPS UNEMPLOYED CERTIFICATED",null,1000,-9,1009,-309,700,null,1.4414285714285715,null,{"$f":"'[3]1.OVERVIEW CHART DASHBOARD'!C28","v":470},{"$f":"'[3]1.OVERVIEW CHART DASHBOARD'!D28","v":-137},{"$f":"'[3]1.OVERVIEW CHART DASHBOARD'!E28","v":607},{"$f":"'[3]1.OVERVIEW CHART DASHBOARD'!F28","v":-278},329,null,1.8449848024316109,null,{"$f":"'[3]1.OVERVIEW CHART DASHBOARD'!J28","v":2.0744680851063828},null,{"$f":"'[3]1.OVERVIEW CHART DASHBOARD'!L28","v":3.3149171270718232},null,{"$f":"'[3]1.OVERVIEW CHART DASHBOARD'!N28","v":5.6533333333333315},null,{"$f":"'[3]1.OVERVIEW CHART DASHBOARD'!P28","v":0},null,{"$f":"'[4]1.OVERVIEW CHART DASHBOARD'!C28","v":350},{"$f":"'[4]1.OVERVIEW CHART DASHBOARD'!D28","v":21},{"$f":"'[4]1.OVERVIEW CHART DASHBOARD'!E28","v":329},{"$f":"'[4]1.OVERVIEW CHART DASHBOARD'!F28","v":-84},245,null,1.3428571428571427,null,{"$f":"'[4]1.OVERVIEW CHART DASHBOARD'!J28","v":1.4428571428571428},null,{"$f":"'[4]1.OVERVIEW CHART DASHBOARD'!L28","v":1.9273743016759777},null,{"$f":"'[4]1.OVERVIEW CHART DASHBOARD'!N28","v":1.6865671641791045},null,{"$f":"'[4]1.OVERVIEW CHART DASHBOARD'!P28","v":0},null,{"$f":"'[2]1.OVERVIEW CHART DASHBOARD'!C28","v":180},{"$f":"'[2]1.OVERVIEW CHART DASHBOARD'!D28","v":107},{"$f":"'[2]1.OVERVIEW CHART DASHBOARD'!E28","v":73},{"$f":"'[2]1.OVERVIEW CHART DASHBOARD'!F28","v":53},126,null,0.57936507936507942,null,{"$f":"'[2]1.OVERVIEW CHART DASHBOARD'!J28","v":2.7777777777777776E-2},null,{"$f":"'[2]1.OVERVIEW CHART DASHBOARD'!L28","v":0.98601398601398604},null,{"$f":"'[2]1.OVERVIEW CHART DASHBOARD'!N28","v":0.37878787878787878},null,{"$f":"'[2]1.OVERVIEW CHART DASHBOARD'!P28","v":0}]
["4.2.1 BURSARY UNEMPLOYED CERTIFICATED",null,126,89,37,89,126,null,0.29365079365079366,null,{"$f":"'[3]1.OVERVIEW CHART DASHBOARD'!C29","v":59},{"$f":"'[3]1.OVERVIEW CHART DASHBOARD'!D29","v":22},{"$f":"'[3]1.OVERVIEW CHART DASHBOARD'!E29","v":37},{"$f":"'[3]1.OVERVIEW CHART DASHBOARD'!F29","v":22},59,null,0.6271186440677966,null,{"$f":"'[3]1.OVERVIEW CHART DASHBOARD'!J29","v":"NO TARGET"},null,{"$f":"'[3]1.OVERVIEW CHART DASHBOARD'!L29","v":"NO TARGET"},null,{"$f":"'[3]1.OVERVIEW CHART DASHBOARD'!N29","v":0.6271186440677966},null,{"$f":"'[3]1.OVERVIEW CHART DASHBOARD'!P29","v":"NO TARGET"},null,{"$f":"'[4]1.OVERVIEW CHART DASHBOARD'!C29","v":44},{"$f":"'[4]1.OVERVIEW CHART DASHBOARD'!D29","v":44},{"$f":"'[4]1.OVERVIEW CHART DASHBOARD'!E29","v":0},{"$f":"'[4]1.OVERVIEW CHART DASHBOARD'!F29","v":44},44,null,0,null,{"$f":"'[4]1.OVERVIEW CHART DASHBOARD'!J29","v":"NO TARGET"},null,{"$f":"'[4]1.OVERVIEW CHART DASHBOARD'!L29","v":"NO TARGET"},null,{"$f":"'[4]1.OVERVIEW CHART DASHBOARD'!N29","v":0},null,{"$f":"'[4]1.OVERVIEW CHART DASHBOARD'!P29","v":"NO TARGET"},null,{"$f":"'[2]1.OVERVIEW CHART DASHBOARD'!C29","v":23},{"$f":"'[2]1.OVERVIEW CHART DASHBOARD'!D29","v":23},{"$f":"'[2]1.OVERVIEW CHART DASHBOARD'!E29","v":0},{"$f":"'[2]1.OVERVIEW CHART DASHBOARD'!F29","v":23},23,null,0,null,{"$f":"'[2]1.OVERVIEW CHART DASHBOARD'!J29","v":"NO TARGET"},null,{"$f":"'[2]1.OVERVIEW CHART DASHBOARD'!L29","v":"NO TARGET"},null,{"$f":"'[2]1.OVERVIEW CHART DASHBOARD'!N29","v":0},null,{"$f":"'[2]1.OVERVIEW CHART DASHBOARD'!P29","v":"NO TARGET"}]
["4.2.1 INTERNSHIPS UNEMPLOYED CERTIFICATED",null,51,-2,53,-17,36,null,1.4722222222222223,null,{"$f":"'[3]1.OVERVIEW CHART DASHBOARD'!C30","v":24},{"$f":"'[3]1.OVERVIEW CHART DASHBOARD'!D30","v":-6},{"$f":"'[3]1.OVERVIEW CHART DASHBOARD'!E30","v":30},{"$f":"'[3]1.OVERVIEW CHART DASHBOARD'!F30","v":-13},17,null,1.7647058823529411,null,{"$f":"'[3]1.OVERVIEW CHART DASHBOARD'!J30","v":0},null,{"$f":"'[3]1.OVERVIEW CHART DASHBOARD'!L30","v":4.5},null,{"$f":"'[3]1.OVERVIEW CHART DASHBOARD'!N30","v":0},null,{"$f":"'[3]1.OVERVIEW CHART DASHBOARD'!P30","v":0},null,{"$f":"'[4]1.OVERVIEW CHART DASHBOARD'!C30","v":18},{"$f":"'[4]1.OVERVIEW CHART DASHBOARD'!D30","v":5},{"$f":"'[4]1.OVERVIEW CHART DASHBOARD'!E30","v":13},{"$f":"'[4]1.OVERVIEW CHART DASHBOARD'!F30","v":0},13,null,1,null,{"$f":"'[4]1.OVERVIEW CHART DASHBOARD'!J30","v":0},null,{"$f":"'[4]1.OVERVIEW CHART DASHBOARD'!L30","v":0},null,{"$f":"'[4]1.OVERVIEW CHART DASHBOARD'!N30","v":1.4444444444444444},null,{"$f":"'[4]1.OVERVIEW CHART DASHBOARD'!P30","v":0},null,{"$f":"'[2]1.OVERVIEW CHART DASHBOARD'!C30","v":9},{"$f":"'[2]1.OVERVIEW CHART DASHBOARD'!D30","v":-1},{"$f":"'[2]1.OVERVIEW CHART DASHBOARD'!E30","v":10},{"$f":"'[2]1.OVERVIEW CHART DASHBOARD'!F30","v":-4},6,null,1.6666666666666667,null,{"$f":"'[2]1.OVERVIEW CHART DASHBOARD'!J30","v":0},null,{"$f":"'[2]1.OVERVIEW CHART DASHBOARD'!L30","v":0.75},null,{"$f":"'[2]1.OVERVIEW CHART DASHBOARD'!N30","v":2.6666666666666665},null,{"$f":"'[2]1.OVERVIEW CHART DASHBOARD'!P30","v":0}]
["4.2.1 SKILLS PROGRAMMES UNEMPLOYED CERTIFICATED",null,500,-183,683,-334,349,null,1.9570200573065903,null,{"$f":"'[3]1.OVERVIEW CHART DASHBOARD'!C31","v":235},{"$f":"'[3]1.OVERVIEW CHART DASHBOARD'!D31","v":-319},{"$f":"'[3]1.OVERVIEW CHART DASHBOARD'!E31","v":554},{"$f":"'[3]1.OVERVIEW CHART DASHBOARD'!F31","v":-390},164,null,3.3780487804878048,null,{"$f":"'[3]1.OVERVIEW CHART DASHBOARD'!J31","v":2.1276595744680851E-2},null,{"$f":"'[3]1.OVERVIEW CHART DASHBOARD'!L31","v":6.1925133689839571},null,{"$f":"'[3]1.OVERVIEW CHART DASHBOARD'!N31","v":-2.1830065359477122},null,{"$f":"'[3]1.OVERVIEW CHART DASHBOARD'!P31","v":0},null,{"$f":"'[4]1.OVERVIEW CHART DASHBOARD'!C31","v":175},{"$f":"'[4]1.OVERVIEW CHART DASHBOARD'!D31","v":47},{"$f":"'[4]1.OVERVIEW CHART DASHBOARD'!E31","v":128},{"$f":"'[4]1.OVERVIEW CHART DASHBOARD'!F31","v":-6},122,null,1.0491803278688525,null,{"$f":"'[4]1.OVERVIEW CHART DASHBOARD'!J31","v":0},null,{"$f":"'[4]1.OVERVIEW CHART DASHBOARD'!L31","v":1.5214285714285716},null,{"$f":"'[4]1.OVERVIEW CHART DASHBOARD'!N31","v":3.5625},null,{"$f":"'[4]1.OVERVIEW CHART DASHBOARD'!P31","v":0},null,{"$f":"'[2]1.OVERVIEW CHART DASHBOARD'!C31","v":90},{"$f":"'[2]1.OVERVIEW CHART DASHBOARD'!D31","v":89},{"$f":"'[2]1.OVERVIEW CHART DASHBOARD'!E31","v":1},{"$f":"'[2]1.OVERVIEW CHART DASHBOARD'!F31","v":62},63,null,1.5873015873015872E-2,null,{"$f":"'[2]1.OVERVIEW CHART DASHBOARD'!J31","v":0},null,{"$f":"'[2]1.OVERVIEW CHART DASHBOARD'!L31","v":0},null,{"$f":"'[2]1.OVERVIEW CHART DASHBOARD'!N31","v":2.2222222222222223E-2},null,{"$f":"'[2]1.OVERVIEW CHART DASHBOARD'!P31","v":0}]
["TOTALS",null,1677,-105,1782,-571,1211,null,1.4715111478117258,null,{"$f":"'[3]1.OVERVIEW CHART DASHBOARD'!C32","v":788},{"$f":"'[3]1.OVERVIEW CHART DASHBOARD'!D32","v":-440},{"$f":"'[3]1.OVERVIEW CHART DASHBOARD'!E32","v":1228},{"$f":"'[3]1.OVERVIEW CHART DASHBOARD'!F32","v":-659},569,null,2.1581722319859402,null,{"$f":"'[3]1.OVERVIEW CHART DASHBOARD'!J32","v":1.3424657534246576},null,{"$f":"'[3]1.OVERVIEW CHART DASHBOARD'!L32","v":4.7628865979381443},null,{"$f":"'[3]1.OVERVIEW CHART DASHBOARD'!N32","v":24.470588235294116},null,{"$f":"'[3]1.OVERVIEW CHART DASHBOARD'!P32","v":0},null,{"$f":"'[4]1.OVERVIEW CHART DASHBOARD'!C32","v":587},{"$f":"'[4]1.OVERVIEW CHART DASHBOARD'!D32","v":117},{"$f":"'[4]1.OVERVIEW CHART DASHBOARD'!E32","v":470},{"$f":"'[4]1.OVERVIEW CHART DASHBOARD'!F32","v":-46},424,null,1.1084905660377358,null,{"$f":"'[4]1.OVERVIEW CHART DASHBOARD'!J32","v":0.92660550458715596},null,{"$f":"'[4]1.OVERVIEW CHART DASHBOARD'!L32","v":1.6656716417910449},null,{"$f":"'[4]1.OVERVIEW CHART DASHBOARD'!N32","v":1.3455882352941178},null,{"$f":"'[4]1.OVERVIEW CHART DASHBOARD'!P32","v":0},null,{"$f":"'[2]1.OVERVIEW CHART DASHBOARD'!C32","v":302},{"$f":"'[2]1.OVERVIEW CHART DASHBOARD'!D32","v":218},{"$f":"'[2]1.OVERVIEW CHART DASHBOARD'!E32","v":84},{"$f":"'[2]1.OVERVIEW CHART DASHBOARD'!F32","v":134},218,null,0.38532110091743121,null,{"$f":"'[2]1.OVERVIEW CHART DASHBOARD'!J32","v":1.7857142857142856E-2},null,{"$f":"'[2]1.OVERVIEW CHART DASHBOARD'!L32","v":0.65919282511210764},null,{"$f":"'[2]1.OVERVIEW CHART DASHBOARD'!N32","v":0.24817518248175183},null,{"$f":"'[2]1.OVERVIEW CHART DASHBOARD'!P32","v":0}]
[null,null,null,null,null,null,null,null,{"$f":"MIN(I28:I31)","v":0.29365079365079366}]
["4.2.1  TOTAL  ARTISANS ENTERED"]
["4.2.2  TOTAL ARTISAN WORKERS ENTERED",null,655,207,448,15,463,null,0.96760259179265662,null,{"$f":"'[3]1.OVERVIEW CHART DASHBOARD'!C35","v":308},{"$f":"'[3]1.OVERVIEW CHART DASHBOARD'!D35","v":36},{"$f":"'[3]1.OVERVIEW CHART DASHBOARD'!E35","v":272},{"$f":"'[3]1.OVERVIEW CHART DASHBOARD'!F35","v":-53},219,null,1.2420091324200913,null,{"$f":"'[3]1.OVERVIEW CHART DASHBOARD'!J35","v":0},null,{"$f":"'[3]1.OVERVIEW CHART DASHBOARD'!L35","v":1.9038461538461537},null,{"$f":"'[3]1.OVERVIEW CHART DASHBOARD'!N35","v":1.4965034965034965},null,{"$f":"'[3]1.OVERVIEW CHART DASHBOARD'!P35","v":0},null,{"$f":"'[4]1.OVERVIEW CHART DASHBOARD'!C35","v":229},{"$f":"'[4]1.OVERVIEW CHART DASHBOARD'!D35","v":119},{"$f":"'[4]1.OVERVIEW CHART DASHBOARD'!E35","v":110},{"$f":"'[4]1.OVERVIEW CHART DASHBOARD'!F35","v":52},162,null,0.67901234567901236,null,{"$f":"'[4]1.OVERVIEW CHART DASHBOARD'!J35","v":0},null,{"$f":"'[4]1.OVERVIEW CHART DASHBOARD'!L35","v":1.6176470588235294},null,{"$f":"'[4]1.OVERVIEW CHART DASHBOARD'!N35","v":0},null,{"$f":"'[4]1.OVERVIEW CHART DASHBOARD'!P35","v":0},null,{"$f":"'[2]1.OVERVIEW CHART DASHBOARD'!C35","v":118},{"$f":"'[2]1.OVERVIEW CHART DASHBOARD'!D35","v":52},{"$f":"'[2]1.OVERVIEW CHART DASHBOARD'!E35","v":66},{"$f":"'[2]1.OVERVIEW CHART DASHBOARD'!F35","v":16},82,null,0.80487804878048785,null,{"$f":"'[2]1.OVERVIEW CHART DASHBOARD'!J35","v":0},null,{"$f":"'[2]1.OVERVIEW CHART DASHBOARD'!L35","v":1.5},null,{"$f":"'[2]1.OVERVIEW CHART DASHBOARD'!N35","v":0.5},null,{"$f":"'[2]1.OVERVIEW CHART DASHBOARD'!P35","v":0}]
["4.2.2  TOTAL ARTISAN UNEMPLOYED ENTERED",null,977,307,670,-3,667,null,1.0044977511244377,null,{"$f":"'[3]1.OVERVIEW CHART DASHBOARD'!C36","v":459},{"$f":"'[3]1.OVERVIEW CHART DASHBOARD'!D36","v":-15},{"$f":"'[3]1.OVERVIEW CHART DASHBOARD'!E36","v":474},{"$f":"'[3]1.OVERVIEW CHART DASHBOARD'!F36","v":-161},313,null,1.5143769968051117,null,{"$f":"'[3]1.OVERVIEW CHART DASHBOARD'!J36","v":0},null,{"$f":"'[3]1.OVERVIEW CHART DASHBOARD'!L36","v":2},null,{"$f":"'[3]1.OVERVIEW CHART DASHBOARD'!N36","v":2.1367521367521367},null,{"$f":"'[3]1.OVERVIEW CHART DASHBOARD'!P36","v":0},null,{"$f":"'[4]1.OVERVIEW CHART DASHBOARD'!C36","v":342},{"$f":"'[4]1.OVERVIEW CHART DASHBOARD'!D36","v":252},{"$f":"'[4]1.OVERVIEW CHART DASHBOARD'!E36","v":90},{"$f":"'[4]1.OVERVIEW CHART DASHBOARD'!F36","v":144},234,null,0.38461538461538464,null,{"$f":"'[4]1.OVERVIEW CHART DASHBOARD'!J36","v":0},null,{"$f":"'[4]1.OVERVIEW CHART DASHBOARD'!L36","v":1.0714285714285714},null,{"$f":"'[4]1.OVERVIEW CHART DASHBOARD'!N36","v":0},null,{"$f":"'[4]1.OVERVIEW CHART DASHBOARD'!P36","v":0},null,{"$f":"'[2]1.OVERVIEW CHART DASHBOARD'!C36","v":176},{"$f":"'[2]1.OVERVIEW CHART DASHBOARD'!D36","v":70},{"$f":"'[2]1.OVERVIEW CHART DASHBOARD'!E36","v":106},{"$f":"'[2]1.OVERVIEW CHART DASHBOARD'!F36","v":14},120,null,0.8833333333333333,null,{"$f":"'[2]1.OVERVIEW CHART DASHBOARD'!J36","v":0},null,{"$f":"'[2]1.OVERVIEW CHART DASHBOARD'!L36","v":0.28125},null,{"$f":"'[2]1.OVERVIEW CHART DASHBOARD'!N36","v":1.1463414634146341},null,{"$f":"'[2]1.OVERVIEW CHART DASHBOARD'!P36","v":0}]
["TOTALS",null,1780,514,1118,12,1130,null,0.98938053097345136,null,{"$f":"'[3]1.OVERVIEW CHART DASHBOARD'!C37","v":767},{"$f":"'[3]1.OVERVIEW CHART DASHBOARD'!D37","v":21},{"$f":"'[3]1.OVERVIEW CHART DASHBOARD'!E37","v":746},{"$f":"'[3]1.OVERVIEW CHART DASHBOARD'!F37","v":-214},532,null,1.4022556390977443,null,{"$f":"'[3]1.OVERVIEW CHART DASHBOARD'!J37","v":0},null,{"$f":"'[3]1.OVERVIEW CHART DASHBOARD'!L37","v":1.9580536912751676},null,{"$f":"'[3]1.OVERVIEW CHART DASHBOARD'!N37","v":1.8938992042440319},null,{"$f":"'[3]1.OVERVIEW CHART DASHBOARD'!P37","v":0},null,{"$f":"'[4]1.OVERVIEW CHART DASHBOARD'!C37","v":719},{"$f":"'[4]1.OVERVIEW CHART DASHBOARD'!D37","v":371},{"$f":"'[4]1.OVERVIEW CHART DASHBOARD'!E37","v":200},{"$f":"'[4]1.OVERVIEW CHART DASHBOARD'!F37","v":196},396,null,0.50505050505050508,null,{"$f":"'[4]1.OVERVIEW CHART DASHBOARD'!J37","v":0},null,{"$f":"'[4]1.OVERVIEW CHART DASHBOARD'!L37","v":1.3157894736842106},null,{"$f":"'[4]1.OVERVIEW CHART DASHBOARD'!N37","v":0},null,{"$f":"'[4]1.OVERVIEW CHART DASHBOARD'!P37","v":0},null,{"$f":"'[2]1.OVERVIEW CHART DASHBOARD'!C37","v":294},{"$f":"'[2]1.OVERVIEW CHART DASHBOARD'!D37","v":122},{"$f":"'[2]1.OVERVIEW CHART DASHBOARD'!E37","v":172},{"$f":"'[2]1.OVERVIEW CHART DASHBOARD'!F37","v":30},202,null,0.85148514851485146,null,{"$f":"'[2]1.OVERVIEW CHART DASHBOARD'!J37","v":0},null,{"$f":"'[2]1.OVERVIEW CHART DASHBOARD'!L37","v":0.81578947368421051},null,{"$f":"'[2]1.OVERVIEW CHART DASHBOARD'!N37","v":0.96491228070175439},null,{"$f":"'[2]1.OVERVIEW CHART DASHBOARD'!P37","v":0}]
[null,null,null,null,null,null,null,null,{"$f":"MIN(I35:I36)","v":0.96760259179265662}]
["4.2.1  TOTAL  ARTISANS CERTIFICATED"]
["4.2.2 TOTAL ARTISAN WORKERS CERTIFICATED",null,164,66,98,12,110,null,0.89090909090909087,null,{"$f":"'[3]1.OVERVIEW CHART DASHBOARD'!C40","v":77},{"$f":"'[3]1.OVERVIEW CHART DASHBOARD'!D40","v":37},{"$f":"'[3]1.OVERVIEW CHART DASHBOARD'!E40","v":40},{"$f":"'[3]1.OVERVIEW CHART DASHBOARD'!F40","v":12},52,null,0.76923076923076927,null,{"$f":"'[3]1.OVERVIEW CHART DASHBOARD'!J40","v":0},null,{"$f":"'[3]1.OVERVIEW CHART DASHBOARD'!L40","v":1.0178571428571428},null,{"$f":"'[3]1.OVERVIEW CHART DASHBOARD'!N40","v":0.73684210526315785},null,{"$f":"'[3]1.OVERVIEW CHART DASHBOARD'!P40","v":0},null,{"$f":"'[4]1.OVERVIEW CHART DASHBOARD'!C40","v":57},{"$f":"'[4]1.OVERVIEW CHART DASHBOARD'!D40","v":13},{"$f":"'[4]1.OVERVIEW CHART DASHBOARD'!E40","v":44},{"$f":"'[4]1.OVERVIEW CHART DASHBOARD'!F40","v":-6},38,null,1.1578947368421053,null,{"$f":"'[4]1.OVERVIEW CHART DASHBOARD'!J40","v":0},null,{"$f":"'[4]1.OVERVIEW CHART DASHBOARD'!L40","v":3.3},null,{"$f":"'[4]1.OVERVIEW CHART DASHBOARD'!N40","v":0},null,{"$f":"'[4]1.OVERVIEW CHART DASHBOARD'!P40","v":0},null,{"$f":"'[2]1.OVERVIEW CHART DASHBOARD'!C40","v":30},{"$f":"'[2]1.OVERVIEW CHART DASHBOARD'!D40","v":16},{"$f":"'[2]1.OVERVIEW CHART DASHBOARD'!E40","v":14},{"$f":"'[2]1.OVERVIEW CHART DASHBOARD'!F40","v":6},20,null,0.7,null,{"$f":"'[2]1.OVERVIEW CHART DASHBOARD'!J40","v":0},null,{"$f":"'[2]1.OVERVIEW CHART DASHBOARD'!L40","v":1.7999999999999998},null,{"$f":"'[2]1.OVERVIEW CHART DASHBOARD'!N40","v":0.22222222222222221},null,{"$f":"'[2]1.OVERVIEW CHART DASHBOARD'!P40","v":0}]
["4.2.2 ARTISANS  UNEMPLOYED CERTIFICATED",null,244,193,51,-3.9999999999999929,47.000000000000007,null,1.0851063829787233,null,{"$f":"'[3]1.OVERVIEW CHART DASHBOARD'!C41","v":114},{"$f":"'[3]1.OVERVIEW CHART DASHBOARD'!D41","v":103},{"$f":"'[3]1.OVERVIEW CHART DASHBOARD'!E41","v":11},{"$f":"'[3]1.OVERVIEW CHART DASHBOARD'!F41","v":11},22,null,0.5,null,{"$f":"'[3]1.OVERVIEW CHART DASHBOARD'!J41","v":"NO TARGET"},null,{"$f":"'[3]1.OVERVIEW CHART DASHBOARD'!L41","v":"NO TARGET"},null,{"$f":"'[3]1.OVERVIEW CHART DASHBOARD'!N41","v":0.11428571428571428},null,{"$f":"'[3]1.OVERVIEW CHART DASHBOARD'!P41","v":0},null,{"$f":"'[4]1.OVERVIEW CHART DASHBOARD'!C41","v":85},{"$f":"'[4]1.OVERVIEW CHART DASHBOARD'!D41","v":57},{"$f":"'[4]1.OVERVIEW CHART DASHBOARD'!E41","v":28},{"$f":"'[4]1.OVERVIEW CHART DASHBOARD'!F41","v":-12},16,null,1.75,null,{"$f":"'[4]1.OVERVIEW CHART DASHBOARD'!J41","v":"NO TARGET"},null,{"$f":"'[4]1.OVERVIEW CHART DASHBOARD'!L41","v":"NO TARGET"},null,{"$f":"'[4]1.OVERVIEW CHART DASHBOARD'!N41","v":0},null,{"$f":"'[4]1.OVERVIEW CHART DASHBOARD'!P41","v":0},null,{"$f":"'[2]1.OVERVIEW CHART DASHBOARD'!C41","v":45},{"$f":"'[2]1.OVERVIEW CHART DASHBOARD'!D41","v":33.000000000000007},{"$f":"'[2]1.OVERVIEW CHART DASHBOARD'!E41","v":12},{"$f":"'[2]1.OVERVIEW CHART DASHBOARD'!F41","v":-2.9999999999999929},9.0000000000000071,null,1.3333333333333324,null,{"$f":"'[2]1.OVERVIEW CHART DASHBOARD'!J41","v":0},null,{"$f":"'[2]1.OVERVIEW CHART DASHBOARD'!L41","v":"NO TARGET"},null,{"$f":"'[2]1.OVERVIEW CHART DASHBOARD'!N41","v":0.33333333333333326},null,{"$f":"'[2]1.OVERVIEW CHART DASHBOARD'!P41","v":0}]
["TOTALS",null,784,259,149,8.0000000000000071,157,null,0.94904458598726116,null,{"$f":"'[3]1.OVERVIEW CHART DASHBOARD'!C42","v":191},{"$f":"'[3]1.OVERVIEW CHART DASHBOARD'!D42","v":140},{"$f":"'[3]1.OVERVIEW CHART DASHBOARD'!E42","v":51},{"$f":"'[3]1.OVERVIEW CHART DASHBOARD'!F42","v":23},74,null,0.68918918918918914,null,{"$f":"'[3]1.OVERVIEW CHART DASHBOARD'!J42","v":0},null,{"$f":"'[3]1.OVERVIEW CHART DASHBOARD'!L42","v":1.5},null,{"$f":"'[3]1.OVERVIEW CHART DASHBOARD'!N42","v":0.5},null,{"$f":"'[3]1.OVERVIEW CHART DASHBOARD'!P42","v":0},null,{"$f":"'[4]1.OVERVIEW CHART DASHBOARD'!C42","v":518},{"$f":"'[4]1.OVERVIEW CHART DASHBOARD'!D42","v":70},{"$f":"'[4]1.OVERVIEW CHART DASHBOARD'!E42","v":72},{"$f":"'[4]1.OVERVIEW CHART DASHBOARD'!F42","v":-18},54,null,1.3333333333333333,null,{"$f":"'[4]1.OVERVIEW CHART DASHBOARD'!J42","v":0},null,{"$f":"'[4]1.OVERVIEW CHART DASHBOARD'!L42","v":5.3999999999999995},null,{"$f":"'[4]1.OVERVIEW CHART DASHBOARD'!N42","v":0},null,{"$f":"'[4]1.OVERVIEW CHART DASHBOARD'!P42","v":0},null,{"$f":"'[2]1.OVERVIEW CHART DASHBOARD'!C42","v":75},{"$f":"'[2]1.OVERVIEW CHART DASHBOARD'!D42","v":49.000000000000007},{"$f":"'[2]1.OVERVIEW CHART DASHBOARD'!E42","v":26},{"$f":"'[2]1.OVERVIEW CHART DASHBOARD'!F42","v":3.0000000000000071},29.000000000000007,null,0.89655172413793083,null,{"$f":"'[2]1.OVERVIEW CHART DASHBOARD'!J42","v":0},null,{"$f":"'[2]1.OVERVIEW CHART DASHBOARD'!L42","v":3.2857142857142856},null,{"$f":"'[2]1.OVERVIEW CHART DASHBOARD'!N42","v":0.25},null,{"$f":"'[2]1.OVERVIEW CHART DASHBOARD'!P42","v":0}]
[null,null,null,null,null,null,null,null,{"$f":"MIN(I40:I41)","v":0.89090909090909087}]
["4.2.3  WORKPLACE EXPERIENCE",null,452,143,309,143,452,null,0.6836283185840708,null,{"$f":"'[3]1.OVERVIEW CHART DASHBOARD'!C44","v":212},{"$f":"'[3]1.OVERVIEW CHART DASHBOARD'!D44","v":-29},{"$f":"'[3]1.OVERVIEW CHART DASHBOARD'!E44","v":241},{"$f":"'[3]1.OVERVIEW CHART DASHBOARD'!F44","v":-29},212,null,1.1367924528301887,null,{"$f":"'[3]1.OVERVIEW CHART DASHBOARD'!J44","v":"NO TARGET"},null,{"$f":"'[3]1.OVERVIEW CHART DASHBOARD'!L44","v":"NO TARGET"},null,{"$f":"'[3]1.OVERVIEW CHART DASHBOARD'!N44","v":0.9719101123595506},null,{"$f":"'[3]1.OVERVIEW CHART DASHBOARD'!P44","v":"NO TARGET"},null,{"$f":"'[4]1.OVERVIEW CHART DASHBOARD'!C44","v":158},{"$f":"'[4]1.OVERVIEW CHART DASHBOARD'!D44","v":145},{"$f":"'[4]1.OVERVIEW CHART DASHBOARD'!E44","v":13},{"$f":"'[4]1.OVERVIEW CHART DASHBOARD'!F44","v":145},158,null,8.2278481012658222E-2,null,{"$f":"'[4]1.OVERVIEW CHART DASHBOARD'!J44","v":"NO TARGET"},null,{"$f":"'[4]1.OVERVIEW CHART DASHBOARD'!L44","v":"NO TARGET"},null,{"$f":"'[4]1.OVERVIEW CHART DASHBOARD'!N44","v":0},null,{"$f":"'[4]1.OVERVIEW CHART DASHBOARD'!P44","v":"NO TARGET"},null,{"$f":"'[2]1.OVERVIEW CHART DASHBOARD'!C44","v":82},{"$f":"'[2]1.OVERVIEW CHART DASHBOARD'!D44","v":27},{"$f":"'[2]1.OVERVIEW CHART DASHBOARD'!E44","v":55},{"$f":"'[2]1.OVERVIEW CHART DASHBOARD'!F44","v":27},82,null,0.67073170731707321,null,{"$f":"'[2]1.OVERVIEW CHART DASHBOARD'!J44","v":"NO TARGET"},null,{"$f":"'[2]1.OVERVIEW CHART DASHBOARD'!L44","v":"NO TARGET"},null,{"$f":"'[2]1.OVERVIEW CHART DASHBOARD'!N44","v":0},null,{"$f":"'[2]1.OVERVIEW CHART DASHBOARD'!P44","v":"NO TARGET"}]
["4.3.2 FET COLLEGE PARTNERSHIPS",null,18,9,9,3,12,null,0.75,null,{"$f":"'[3]1.OVERVIEW CHART DASHBOARD'!C45","v":8},{"$f":"'[3]1.OVERVIEW CHART DASHBOARD'!D45","v":1},{"$f":"'[3]1.OVERVIEW CHART DASHBOARD'!E45","v":7},{"$f":"'[3]1.OVERVIEW CHART DASHBOARD'!F45","v":-2},5,null,1.4,null,{"$f":"'[3]1.OVERVIEW CHART DASHBOARD'!J45","v":1},null,{"$f":"'[3]1.OVERVIEW CHART DASHBOARD'!L45","v":6},null,{"$f":"'[3]1.OVERVIEW CHART DASHBOARD'!N45","v":0},null,{"$f":"'[3]1.OVERVIEW CHART DASHBOARD'!P45","v":0},null,{"$f":"'[4]1.OVERVIEW CHART DASHBOARD'!C45","v":6},{"$f":"'[4]1.OVERVIEW CHART DASHBOARD'!D45","v":5},{"$f":"'[4]1.OVERVIEW CHART DASHBOARD'!E45","v":1},{"$f":"'[4]1.OVERVIEW CHART DASHBOARD'!F45","v":3},4,null,0.25,null,{"$f":"'[4]1.OVERVIEW CHART DASHBOARD'!J45","v":1},null,{"$f":"'[4]1.OVERVIEW CHART DASHBOARD'!L45","v":0},null,{"$f":"'[4]1.OVERVIEW CHART DASHBOARD'!N45","v":0},null,{"$f":"'[4]1.OVERVIEW CHART DASHBOARD'!P45","v":0},null,{"$f":"'[2]1.OVERVIEW CHART DASHBOARD'!C45","v":4},{"$f":"'[2]1.OVERVIEW CHART DASHBOARD'!D45","v":3},{"$f":"'[2]1.OVERVIEW CHART DASHBOARD'!E45","v":1},{"$f":"'[2]1.OVERVIEW CHART DASHBOARD'!F45","v":2},3,null,0.33333333333333331,null,{"$f":"'[2]1.OVERVIEW CHART DASHBOARD'!J45","v":1},null,{"$f":"'[2]1.OVERVIEW CHART DASHBOARD'!L45","v":0},null,{"$f":"'[2]1.OVERVIEW CHART DASHBOARD'!N45","v":0},null,{"$f":"'[2]1.OVERVIEW CHART DASHBOARD'!P45","v":0}]
["4.4. AET PROGRAMMES ENTERED",null,252,252,0,252,252,null,0,null,{"$f":"'[3]1.OVERVIEW CHART DASHBOARD'!C46","v":118},{"$f":"'[3]1.OVERVIEW CHART DASHBOARD'!D46","v":118},{"$f":"'[3]1.OVERVIEW CHART DASHBOARD'!E46","v":0},{"$f":"'[3]1.OVERVIEW CHART DASHBOARD'!F46","v":118},118,null,0,null,{"$f":"'[3]1.OVERVIEW CHART DASHBOARD'!J46","v":"NO TARGET"},null,{"$f":"'[3]1.OVERVIEW CHART DASHBOARD'!L46","v":"NO TARGET"},null,{"$f":"'[3]1.OVERVIEW CHART DASHBOARD'!N46","v":0},null,{"$f":"'[3]1.OVERVIEW CHART DASHBOARD'!P46","v":"NO TARGET"},null,{"$f":"'[4]1.OVERVIEW CHART DASHBOARD'!C46","v":88},{"$f":"'[4]1.OVERVIEW CHART DASHBOARD'!D46","v":88},{"$f":"'[4]1.OVERVIEW CHART DASHBOARD'!E46","v":0},{"$f":"'[4]1.OVERVIEW CHART DASHBOARD'!F46","v":88},88,null,0,null,{"$f":"'[4]1.OVERVIEW CHART DASHBOARD'!J46","v":"NO TARGET"},null,{"$f":"'[4]1.OVERVIEW CHART DASHBOARD'!L46","v":"NO TARGET"},null,{"$f":"'[4]1.OVERVIEW CHART DASHBOARD'!N46","v":0},null,{"$f":"'[4]1.OVERVIEW CHART DASHBOARD'!P46","v":"NO TARGET"},null,{"$f":"'[2]1.OVERVIEW CHART DASHBOARD'!C46","v":46},{"$f":"'[2]1.OVERVIEW CHART DASHBOARD'!D46","v":46},{"$f":"'[2]1.OVERVIEW CHART DASHBOARD'!E46","v":0},{"$f":"'[2]1.OVERVIEW CHART DASHBOARD'!F46","v":46},46,null,0,null,{"$f":"'[2]1.OVERVIEW CHART DASHBOARD'!J46","v":"NO TARGET"},null,{"$f":"'[2]1.OVERVIEW CHART DASHBOARD'!L46","v":"NO TARGET"},null,{"$f":"'[2]1.OVERVIEW CHART DASHBOARD'!N46","v":0},null,{"$f":"'[2]1.OVERVIEW CHART DASHBOARD'!P46","v":"NO TARGET"}]
["4.4. AET PROGRAMMES CERTIFICATED",null,126,119,7,-7,0,null,{"$f":"E47/G47","v":{"$error":"#DIV/0!"}},null,{"$f":"'[3]1.OVERVIEW CHART DASHBOARD'!C47","v":59},{"$f":"'[3]1.OVERVIEW CHART DASHBOARD'!D47","v":52},{"$f":"'[3]1.OVERVIEW CHART DASHBOARD'!E47","v":7},{"$f":"'[3]1.OVERVIEW CHART DASHBOARD'!F47","v":-7},0,null,{"$error":"#DIV/0!"},null,{"$f":"'[3]1.OVERVIEW CHART DASHBOARD'!J47","v":"NO TARGET"},null,{"$f":"'[3]1.OVERVIEW CHART DASHBOARD'!L47","v":"NO TARGET"},null,{"$f":"'[3]1.OVERVIEW CHART DASHBOARD'!N47","v":"NO TARGET"},null,{"$f":"'[3]1.OVERVIEW CHART DASHBOARD'!P47","v":0},null,{"$f":"'[4]1.OVERVIEW CHART DASHBOARD'!C47","v":44},{"$f":"'[4]1.OVERVIEW CHART DASHBOARD'!D47","v":44},{"$f":"'[4]1.OVERVIEW CHART DASHBOARD'!E47","v":0},{"$f":"'[4]1.OVERVIEW CHART DASHBOARD'!F47","v":0},0,null,{"$error":"#DIV/0!"},null,{"$f":"'[4]1.OVERVIEW CHART DASHBOARD'!J47","v":"NO TARGET"},null,{"$f":"'[4]1.OVERVIEW CHART DASHBOARD'!L47","v":"NO TARGET"},null,{"$f":"'[4]1.OVERVIEW CHART DASHBOARD'!N47","v":"NO TARGET"},null,{"$f":"'[4]1.OVERVIEW CHART DASHBOARD'!P47","v":0},null,{"$f":"'[2]1.OVERVIEW CHART DASHBOARD'!C47","v":23},{"$f":"'[2]1.OVERVIEW CHART DASHBOARD'!D47","v":23},{"$f":"'[2]1.OVERVIEW CHART DASHBOARD'!E47","v":0},{"$f":"'[2]1.OVERVIEW CHART DASHBOARD'!F47","v":0},0,null,{"$error":"#DIV/0!"},null,{"$f":"'[2]1.OVERVIEW CHART DASHBOARD'!J47","v":"NO TARGET"},null,{"$f":"'[2]1.OVERVIEW CHART DASHBOARD'!L47","v":"NO TARGET"},null,{"$f":"'[2]1.OVERVIEW CHART DASHBOARD'!N47","v":"NO TARGET"},null,{"$f":"'[2]1.OVERVIEW CHART DASHBOARD'!P47","v":0}]
["4.6.1  CO-OPERATIVES",null,30,13,17,-1,16,null,1.0625,null,{"$f":"'[3]1.OVERVIEW CHART DASHBOARD'!C48","v":14},{"$f":"'[3]1.OVERVIEW CHART DASHBOARD'!D48","v":-3},{"$f":"'[3]1.OVERVIEW CHART DASHBOARD'!E48","v":17},{"$f":"'[3]1.OVERVIEW CHART DASHBOARD'!F48","v":-17},0,null,{"$error":"#DIV/0!"},null,{"$f":"'[3]1.OVERVIEW CHART DASHBOARD'!J48","v":"NO TARGET"},null,{"$f":"'[3]1.OVERVIEW CHART DASHBOARD'!L48","v":"NO TARGET"},null,{"$f":"'[3]1.OVERVIEW CHART DASHBOARD'!N48","v":"NO TARGET"},null,{"$f":"'[3]1.OVERVIEW CHART DASHBOARD'!P48","v":0},null,{"$f":"'[4]1.OVERVIEW CHART DASHBOARD'!C48","v":11},{"$f":"'[4]1.OVERVIEW CHART DASHBOARD'!D48","v":11},{"$f":"'[4]1.OVERVIEW CHART DASHBOARD'!E48","v":0},{"$f":"'[4]1.OVERVIEW CHART DASHBOARD'!F48","v":11},11,null,0,null,{"$f":"'[4]1.OVERVIEW CHART DASHBOARD'!J48","v":"NO TARGET"},null,{"$f":"'[4]1.OVERVIEW CHART DASHBOARD'!L48","v":"NO TARGET"},null,{"$f":"'[4]1.OVERVIEW CHART DASHBOARD'!N48","v":0},null,{"$f":"'[4]1.OVERVIEW CHART DASHBOARD'!P48","v":"NO TARGET"},null,{"$f":"'[2]1.OVERVIEW CHART DASHBOARD'!C48","v":5},{"$f":"'[2]1.OVERVIEW CHART DASHBOARD'!D48","v":5},{"$f":"'[2]1.OVERVIEW CHART DASHBOARD'!E48","v":0},{"$f":"'[2]1.OVERVIEW CHART DASHBOARD'!F48","v":5},5,null,0,null,{"$f":"'[2]1.OVERVIEW CHART DASHBOARD'!J48","v":"NO TARGET"},null,{"$f":"'[2]1.OVERVIEW CHART DASHBOARD'!L48","v":"NO TARGET"},null,{"$f":"'[2]1.OVERVIEW CHART DASHBOARD'!N48","v":0},null,{"$f":"'[2]1.OVERVIEW CHART DASHBOARD'!P48","v":"NO TARGET"}]
["4.6.2  SMALL BUSINESS SUPPORT",null,80,60,20,7.9999999999999964,27.999999999999996,null,0.71428571428571441,null,{"$f":"'[3]1.OVERVIEW CHART DASHBOARD'!C49","v":38},{"$f":"'[3]1.OVERVIEW CHART DASHBOARD'!D49","v":24.999999999999996},{"$f":"'[3]1.OVERVIEW CHART DASHBOARD'!E49","v":13},{"$f":"'[3]1.OVERVIEW CHART DASHBOARD'!F49","v":-13.000000000000004},0,null,{"$error":"#DIV/0!"},null,{"$f":"'[3]1.OVERVIEW CHART DASHBOARD'!J49","v":"NO TARGET"},null,{"$f":"'[3]1.OVERVIEW CHART DASHBOARD'!L49","v":"NO TARGET"},null,{"$f":"'[3]1.OVERVIEW CHART DASHBOARD'!N49","v":"NO TARGET"},null,{"$f":"'[3]1.OVERVIEW CHART DASHBOARD'!P49","v":0},null,{"$f":"'[4]1.OVERVIEW CHART DASHBOARD'!C49","v":28},{"$f":"'[4]1.OVERVIEW CHART DASHBOARD'!D49","v":21},{"$f":"'[4]1.OVERVIEW CHART DASHBOARD'!E49","v":7},{"$f":"'[4]1.OVERVIEW CHART DASHBOARD'!F49","v":7},14,null,0.5,null,{"$f":"'[4]1.OVERVIEW CHART DASHBOARD'!J49","v":"NO TARGET"},null,{"$f":"'[4]1.OVERVIEW CHART DASHBOARD'!L49","v":"NO TARGET"},null,{"$f":"'[4]1.OVERVIEW CHART DASHBOARD'!N49","v":0.25},null,{"$f":"'[4]1.OVERVIEW CHART DASHBOARD'!P49","v":0},null,{"$f":"'[2]1.OVERVIEW CHART DASHBOARD'!C49","v":14},{"$f":"'[2]1.OVERVIEW CHART DASHBOARD'!D49","v":14},{"$f":"'[2]1.OVERVIEW CHART DASHBOARD'!E49","v":0},{"$f":"'[2]1.OVERVIEW CHART DASHBOARD'!F49","v":14},14,null,0,null,{"$f":"'[2]1.OVERVIEW CHART DASHBOARD'!J49","v":"NO TARGET"},null,{"$f":"'[2]1.OVERVIEW CHART DASHBOARD'!L49","v":"NO TARGET"},null,{"$f":"'[2]1.OVERVIEW CHART DASHBOARD'!N49","v":0},null,{"$f":"'[2]1.OVERVIEW CHART DASHBOARD'!P49","v":"NO TARGET"}]
["TOTALS",null,958,596,362,398,760,null,0.47631578947368419,null,{"$f":"'[3]1.OVERVIEW CHART DASHBOARD'!C50","v":449},{"$f":"'[3]1.OVERVIEW CHART DASHBOARD'!D50","v":164},{"$f":"'[3]1.OVERVIEW CHART DASHBOARD'!E50","v":285},{"$f":"'[3]1.OVERVIEW CHART DASHBOARD'!F50","v":50},335,null,0.85074626865671643,null,{"$f":"'[3]1.OVERVIEW CHART DASHBOARD'!J50","v":23},null,{"$f":"'[3]1.OVERVIEW CHART DASHBOARD'!L50","v":-12.947368421052632},null,{"$f":"'[3]1.OVERVIEW CHART DASHBOARD'!N50","v":0.63943161634103018},null,{"$f":"'[3]1.OVERVIEW CHART DASHBOARD'!P50","v":0},null,{"$f":"'[4]1.OVERVIEW CHART DASHBOARD'!C50","v":335},{"$f":"'[4]1.OVERVIEW CHART DASHBOARD'!D50","v":314},{"$f":"'[4]1.OVERVIEW CHART DASHBOARD'!E50","v":21},{"$f":"'[4]1.OVERVIEW CHART DASHBOARD'!F50","v":254},275,null,7.636363636363637E-2,null,{"$f":"'[4]1.OVERVIEW CHART DASHBOARD'!J50","v":1},null,{"$f":"'[4]1.OVERVIEW CHART DASHBOARD'!L50","v":17},null,{"$f":"'[4]1.OVERVIEW CHART DASHBOARD'!N50","v":1.1320754716981131E-2},null,{"$f":"'[4]1.OVERVIEW CHART DASHBOARD'!P50","v":0},null,{"$f":"'[2]1.OVERVIEW CHART DASHBOARD'!C50","v":174},{"$f":"'[2]1.OVERVIEW CHART DASHBOARD'!D50","v":118},{"$f":"'[2]1.OVERVIEW CHART DASHBOARD'!E50","v":56},{"$f":"'[2]1.OVERVIEW CHART DASHBOARD'!F50","v":94},150,null,0.37333333333333335,null,{"$f":"'[2]1.OVERVIEW CHART DASHBOARD'!J50","v":1},null,{"$f":"'[2]1.OVERVIEW CHART DASHBOARD'!L50","v":55},null,{"$f":"'[2]1.OVERVIEW CHART DASHBOARD'!N50","v":0},null,{"$f":"'[2]1.OVERVIEW CHART DASHBOARD'!P50","v":0}]
[]
["4.6.3  NGO, CBO,NLPE"]
["NGO",null,5,2,3,{"$f":"SUM(N53,AD53,AT53)","v":0},3,null,1,null,{"$f":"'[3]1.OVERVIEW CHART DASHBOARD'!C53","v":2},{"$f":"'[3]1.OVERVIEW CHART DASHBOARD'!D53","v":2},{"$f":"'[3]1.OVERVIEW CHART DASHBOARD'!E53","v":0},{"$f":"'[3]1.OVERVIEW CHART DASHBOARD'!F53","v":0},0,null,{"$error":"#DIV/0!"},null,{"$f":"'[3]1.OVERVIEW CHART DASHBOARD'!J53","v":"NO TARGET"},null,{"$f":"'[3]1.OVERVIEW CHART DASHBOARD'!L53","v":"NO TARGET"},null,{"$f":"'[3]1.OVERVIEW CHART DASHBOARD'!N53","v":"NO TARGET"},null,{"$f":"'[3]1.OVERVIEW CHART DASHBOARD'!P53","v":0},null,{"$f":"'[4]1.OVERVIEW CHART DASHBOARD'!C53","v":2},{"$f":"'[4]1.OVERVIEW CHART DASHBOARD'!D53","v":-1},{"$f":"'[4]1.OVERVIEW CHART DASHBOARD'!E53","v":3},{"$f":"'[4]1.OVERVIEW CHART DASHBOARD'!F53","v":-1},2,null,1.5,null,{"$f":"'[4]1.OVERVIEW CHART DASHBOARD'!J53","v":"NO TARGET"},null,{"$f":"'[4]1.OVERVIEW CHART DASHBOARD'!L53","v":"NO TARGET"},null,{"$f":"'[4]1.OVERVIEW CHART DASHBOARD'!N53","v":1.5},null,{"$f":"'[4]1.OVERVIEW CHART DASHBOARD'!P53","v":"NO TARGET"},null,{"$f":"'[2]1.OVERVIEW CHART DASHBOARD'!C53","v":1},{"$f":"'[2]1.OVERVIEW CHART DASHBOARD'!D53","v":1},{"$f":"'[2]1.OVERVIEW CHART DASHBOARD'!E53","v":0},{"$f":"'[2]1.OVERVIEW CHART DASHBOARD'!F53","v":1},1,null,0,null,{"$f":"'[2]1.OVERVIEW CHART DASHBOARD'!J53","v":"NO TARGET"},null,{"$f":"'[2]1.OVERVIEW CHART DASHBOARD'!L53","v":"NO TARGET"},null,{"$f":"'[2]1.OVERVIEW CHART DASHBOARD'!N53","v":0},null,{"$f":"'[2]1.OVERVIEW CHART DASHBOARD'!P53","v":"NO TARGET"}]
["CBC",null,5,5,0,3,3,null,0,null,{"$f":"'[3]1.OVERVIEW CHART DASHBOARD'!C54","v":2},{"$f":"'[3]1.OVERVIEW CHART DASHBOARD'!D54","v":2},{"$f":"'[3]1.OVERVIEW CHART DASHBOARD'!E54","v":0},{"$f":"'[3]1.OVERVIEW CHART DASHBOARD'!F54","v":0},0,null,{"$error":"#DIV/0!"},null,{"$f":"'[3]1.OVERVIEW CHART DASHBOARD'!J54","v":"NO TARGET"},null,{"$f":"'[3]1.OVERVIEW CHART DASHBOARD'!L54","v":"NO TARGET"},null,{"$f":"'[3]1.OVERVIEW CHART DASHBOARD'!N54","v":"NO TARGET"},null,{"$f":"'[3]1.OVERVIEW CHART DASHBOARD'!P54","v":0},null,{"$f":"'[4]1.OVERVIEW CHART DASHBOARD'!C54","v":2},{"$f":"'[4]1.OVERVIEW CHART DASHBOARD'!D54","v":2},{"$f":"'[4]1.OVERVIEW CHART DASHBOARD'!E54","v":0},{"$f":"'[4]1.OVERVIEW CHART DASHBOARD'!F54","v":2},2,null,0,null,{"$f":"'[4]1.OVERVIEW CHART DASHBOARD'!J54","v":"NO TARGET"},null,{"$f":"'[4]1.OVERVIEW CHART DASHBOARD'!L54","v":"NO TARGET"},null,{"$f":"'[4]1.OVERVIEW CHART DASHBOARD'!N54","v":0},null,{"$f":"'[4]1.OVERVIEW CHART DASHBOARD'!P54","v":"NO TARGET"},null,{"$f":"'[2]1.OVERVIEW CHART DASHBOARD'!C54","v":1},{"$f":"'[2]1.OVERVIEW CHART DASHBOARD'!D54","v":1},{"$f":"'[2]1.OVERVIEW CHART DASHBOARD'!E54","v":0},{"$f":"'[2]1.OVERVIEW CHART DASHBOARD'!F54","v":1},1,null,0,null,{"$f":"'[2]1.OVERVIEW CHART DASHBOARD'!J54","v":"NO TARGET"},null,{"$f":"'[2]1.OVERVIEW CHART DASHBOARD'!L54","v":"NO TARGET"},null,{"$f":"'[2]1.OVERVIEW CHART DASHBOARD'!N54","v":0},null,{"$f":"'[2]1.OVERVIEW CHART DASHBOARD'!P54","v":"NO TARGET"}]
["CBO",null,5,5,0,3,3,null,0,null,{"$f":"'[3]1.OVERVIEW CHART DASHBOARD'!C55","v":2},{"$f":"'[3]1.OVERVIEW CHART DASHBOARD'!D55","v":2},{"$f":"'[3]1.OVERVIEW CHART DASHBOARD'!E55","v":0},{"$f":"'[3]1.OVERVIEW CHART DASHBOARD'!F55","v":0},0,null,{"$error":"#DIV/0!"},null,{"$f":"'[3]1.OVERVIEW CHART DASHBOARD'!J55","v":"NO TARGET"},null,{"$f":"'[3]1.OVERVIEW CHART DASHBOARD'!L55","v":"NO TARGET"},null,{"$f":"'[3]1.OVERVIEW CHART DASHBOARD'!N55","v":"NO TARGET"},null,{"$f":"'[3]1.OVERVIEW CHART DASHBOARD'!P55","v":0},null,{"$f":"'[4]1.OVERVIEW CHART DASHBOARD'!C55","v":2},{"$f":"'[4]1.OVERVIEW CHART DASHBOARD'!D55","v":2},{"$f":"'[4]1.OVERVIEW CHART DASHBOARD'!E55","v":0},{"$f":"'[4]1.OVERVIEW CHART DASHBOARD'!F55","v":2},2,null,0,null,{"$f":"'[4]1.OVERVIEW CHART DASHBOARD'!J55","v":"NO TARGET"},null,{"$f":"'[4]1.OVERVIEW CHART DASHBOARD'!L55","v":"NO TARGET"},null,{"$f":"'[4]1.OVERVIEW CHART DASHBOARD'!N55","v":0},null,{"$f":"'[4]1.OVERVIEW CHART DASHBOARD'!P55","v":"NO TARGET"},null,{"$f":"'[2]1.OVERVIEW CHART DASHBOARD'!C55","v":1},{"$f":"'[2]1.OVERVIEW CHART DASHBOARD'!D55","v":1},{"$f":"'[2]1.OVERVIEW CHART DASHBOARD'!E55","v":0},{"$f":"'[2]1.OVERVIEW CHART DASHBOARD'!F55","v":1},1,null,0,null,{"$f":"'[2]1.OVERVIEW CHART DASHBOARD'!J55","v":"NO TARGET"},null,{"$f":"'[2]1.OVERVIEW CHART DASHBOARD'!L55","v":"NO TARGET"},null,{"$f":"'[2]1.OVERVIEW CHART DASHBOARD'!N55","v":0},null,{"$f":"'[2]1.OVERVIEW CHART DASHBOARD'!P55","v":"NO TARGET"}]
["NLPE",null,5,5,0,3,3,null,0,null,{"$f":"'[3]1.OVERVIEW CHART DASHBOARD'!C56","v":2},{"$f":"'[3]1.OVERVIEW CHART DASHBOARD'!D56","v":2},{"$f":"'[3]1.OVERVIEW CHART DASHBOARD'!E56","v":0},{"$f":"'[3]1.OVERVIEW CHART DASHBOARD'!F56","v":0},0,null,{"$error":"#DIV/0!"},null,{"$f":"'[3]1.OVERVIEW CHART DASHBOARD'!J56","v":"NO TARGET"},null,{"$f":"'[3]1.OVERVIEW CHART DASHBOARD'!L56","v":"NO TARGET"},null,{"$f":"'[3]1.OVERVIEW CHART DASHBOARD'!N56","v":"NO TARGET"},null,{"$f":"'[3]1.OVERVIEW CHART DASHBOARD'!P56","v":0},null,{"$f":"'[4]1.OVERVIEW CHART DASHBOARD'!C56","v":2},{"$f":"'[4]1.OVERVIEW CHART DASHBOARD'!D56","v":2},{"$f":"'[4]1.OVERVIEW CHART DASHBOARD'!E56","v":0},{"$f":"'[4]1.OVERVIEW CHART DASHBOARD'!F56","v":2},2,null,0,null,{"$f":"'[4]1.OVERVIEW CHART DASHBOARD'!J56","v":"NO TARGET"},null,{"$f":"'[4]1.OVERVIEW CHART DASHBOARD'!L56","v":"NO TARGET"},null,{"$f":"'[4]1.OVERVIEW CHART DASHBOARD'!N56","v":0},null,{"$f":"'[4]1.OVERVIEW CHART DASHBOARD'!P56","v":"NO TARGET"},null,{"$f":"'[2]1.OVERVIEW CHART DASHBOARD'!C56","v":1},{"$f":"'[2]1.OVERVIEW CHART DASHBOARD'!D56","v":1},{"$f":"'[2]1.OVERVIEW CHART DASHBOARD'!E56","v":0},{"$f":"'[2]1.OVERVIEW CHART DASHBOARD'!F56","v":1},1,null,0,null,{"$f":"'[2]1.OVERVIEW CHART DASHBOARD'!J56","v":"NO TARGET"},null,{"$f":"'[2]1.OVERVIEW CHART DASHBOARD'!L56","v":"NO TARGET"},null,{"$f":"'[2]1.OVERVIEW CHART DASHBOARD'!N56","v":0},null,{"$f":"'[2]1.OVERVIEW CHART DASHBOARD'!P56","v":"NO TARGET"}]
["TOTALS",null,20,17,3,9,12,null,0.25,null,{"$f":"'[3]1.OVERVIEW CHART DASHBOARD'!C57","v":8},{"$f":"'[3]1.OVERVIEW CHART DASHBOARD'!D57","v":8},{"$f":"'[3]1.OVERVIEW CHART DASHBOARD'!E57","v":0},{"$f":"'[3]1.OVERVIEW CHART DASHBOARD'!F57","v":0},0,null,{"$error":"#DIV/0!"},null,{"$f":"'[3]1.OVERVIEW CHART DASHBOARD'!J57","v":"NO TARGET"},null,{"$f":"'[3]1.OVERVIEW CHART DASHBOARD'!L57","v":"NO TARGET"},null,{"$f":"'[3]1.OVERVIEW CHART DASHBOARD'!N57","v":"NO TARGET"},null,{"$f":"'[3]1.OVERVIEW CHART DASHBOARD'!P57","v":0},null,{"$f":"'[4]1.OVERVIEW CHART DASHBOARD'!C57","v":8},{"$f":"'[4]1.OVERVIEW CHART DASHBOARD'!D57","v":5},{"$f":"'[4]1.OVERVIEW CHART DASHBOARD'!E57","v":3},{"$f":"'[4]1.OVERVIEW CHART DASHBOARD'!F57","v":5},8,null,0.375,null,{"$f":"'[4]1.OVERVIEW CHART DASHBOARD'!J57","v":"NO TARGET"},null,{"$f":"'[4]1.OVERVIEW CHART DASHBOARD'!L57","v":"NO TARGET"},null,{"$f":"'[4]1.OVERVIEW CHART DASHBOARD'!N57","v":0.375},null,{"$f":"'[4]1.OVERVIEW CHART DASHBOARD'!P57","v":"NO TARGET"},null,{"$f":"'[2]1.OVERVIEW CHART DASHBOARD'!C57","v":4},{"$f":"'[2]1.OVERVIEW CHART DASHBOARD'!D57","v":4},{"$f":"'[2]1.OVERVIEW CHART DASHBOARD'!E57","v":0},{"$f":"'[2]1.OVERVIEW CHART DASHBOARD'!F57","v":4},4,null,0,null,{"$f":"'[2]1.OVERVIEW CHART DASHBOARD'!J57","v":"NO TARGET"},null,{"$f":"'[2]1.OVERVIEW CHART DASHBOARD'!L57","v":"NO TARGET"},null,{"$f":"'[2]1.OVERVIEW CHART DASHBOARD'!N57","v":0.75},null,{"$f":"'[2]1.OVERVIEW CHART DASHBOARD'!P57","v":"NO TARGET"}]
[null,null,null,null,null,null,null,null,{"$f":"MIN(I53:I56)","v":0}]
["4.8 CAREER GUIDANCE",null,1003,-597.33333333333337,1640,-1600.3333333333335,39.666666666666515,null,{"$f":"E59/G59","v":41.344537815126209},null,{"$f":"'[3]1.OVERVIEW CHART DASHBOARD'!C59","v":470},{"$f":"'[3]1.OVERVIEW CHART DASHBOARD'!D59","v":-105},{"$f":"'[3]1.OVERVIEW CHART DASHBOARD'!E59","v":575},{"$f":"'[3]1.OVERVIEW CHART DASHBOARD'!F59","v":-575},0,null,{"$error":"#DIV/0!"},null,{"$f":"'[3]1.OVERVIEW CHART DASHBOARD'!J59","v":"NO TARGET"},null,{"$f":"'[3]1.OVERVIEW CHART DASHBOARD'!L59","v":"NO TARGET"},null,{"$f":"'[3]1.OVERVIEW CHART DASHBOARD'!N59","v":0},null,{"$f":"'[3]1.OVERVIEW CHART DASHBOARD'!P59","v":0},null,{"$f":"'[4]1.OVERVIEW CHART DASHBOARD'!C59","v":350},{"$f":"'[4]1.OVERVIEW CHART DASHBOARD'!D59","v":-433.33333333333337},{"$f":"'[4]1.OVERVIEW CHART DASHBOARD'!E59","v":823},{"$f":"'[4]1.OVERVIEW CHART DASHBOARD'!F59","v":-783.33333333333337},39.666666666666629,null,20.747899159663884,null,{"$f":"'[4]1.OVERVIEW CHART DASHBOARD'!J59","v":"NO TARGET"},null,{"$f":"'[4]1.OVERVIEW CHART DASHBOARD'!L59","v":"NO TARGET"},null,{"$f":"'[4]1.OVERVIEW CHART DASHBOARD'!N59","v":0},null,{"$f":"'[4]1.OVERVIEW CHART DASHBOARD'!P59","v":0},null,{"$f":"'[2]1.OVERVIEW CHART DASHBOARD'!C59","v":183},{"$f":"'[2]1.OVERVIEW CHART DASHBOARD'!D59","v":-59},{"$f":"'[2]1.OVERVIEW CHART DASHBOARD'!E59","v":242},{"$f":"'[2]1.OVERVIEW CHART DASHBOARD'!F59","v":-242},0,null,{"$error":"#DIV/0!"},null,{"$f":"'[2]1.OVERVIEW CHART DASHBOARD'!J59","v":"NO TARGET"},null,{"$f":"'[2]1.OVERVIEW CHART DASHBOARD'!L59","v":"NO TARGET"},null,{"$f":"'[2]1.OVERVIEW CHART DASHBOARD'!N59","v":0},null,{"$f":"'[2]1.OVERVIEW CHART DASHBOARD'!P59","v":0}]
[]
[null,null,"TARGET","YTD VARIANCE","YTD ACTUAL","YTD BACKLOG"]
["TOTALS PROGRAMME",null,{"$f":"SUM(C57,C50,C42,C37,C32,C25,C18,C12)","v":15485},{"$f":"SUM(D57,D50,D42,D37,D32,D25,D18,D12)","v":4585},{"$f":"SUM(E57,E50,E42,E37,E32,E25,E18,E12)","v":10376},{"$f":"SUM(F57,F50,F42,F37,F32,F25,F18,F12)","v":12},{"$f":"SUM(E62,F62)","v":10388},null,{"$f":"E62/G62","v":0.9988448209472468},null,{"$f":"SUM(K57,K50,K42,K37,K32,K25,K18,K12)","v":7026},{"$f":"SUM(L57,L50,L42,L37,L32,L25,L18,L12)","v":149},{"$f":"SUM(M57,M50,M42,M37,M32,M25,M18,M12)","v":6877},{"$f":"SUM(N57,N50,N42,N37,N32,N25,N18,N12)","v":-1996},{"$f":"SUM(M62,N62)","v":4881},{"$f":"SUM(M62,N62)","v":4881},1.4089325957795533,null,null,null,null,null,null,null,null,null,{"$f":"SUM(AA57,AA50,AA42,AA37,AA32,AA25,AA18,AA12)","v":5756},{"$f":"SUM(AB57,AB50,AB42,AB37,AB32,AB25,AB18,AB12)","v":2573},{"$f":"SUM(AC57,AC50,AC42,AC37,AC32,AC25,AC18,AC12)","v":2659},{"$f":"SUM(AD57,AD50,AD42,AD37,AD32,AD25,AD18,AD12)","v":954},{"$f":"SUM(AC62,AD62)","v":3613},null,{"$f":"AC62/AE62","v":0.73595350124550241},null,null,null,null,null,null,null,null,null,{"$f":"SUM(AQ57,AQ50,AQ42,AQ37,AQ32,AQ25,AQ18,AQ12)","v":2703},{"$f":"SUM(AR57,AR50,AR42,AR37,AR32,AR25,AR18,AR12)","v":1863},{"$f":"SUM(AS57,AS50,AS42,AS37,AS32,AS25,AS18,AS12)","v":840},{"$f":"SUM(AT57,AT50,AT42,AT37,AT32,AT25,AT18,AT12)","v":1054},{"$f":"SUM(AS62,AT62)","v":1894},null,0.44350580781414994]

{"sheet":"1.OVERVIEW DASHBOARD","index":3,"n_rows":82,"n_cols":15,"rows_kept":82,"cut":false,"hidden":true,"merged":[[20,16,20,21],[1,0,4,0],[3,2,3,6],[5,2,5,6],[3,8,3,14],[3,16,3,21]]}
[]
["REGIONS  PERFORMANCE\nQ -PROGRESS DASHBOARD"]
[]
[null,null,"CHIETA SQMR OVERVIEW",null,null,null,null,null,"REGION OVERVIEW %"]
[]
[null,null,"REGION OVERVIEW PERFORMANCE",null,null,null,null,null,"Q1",null,"Q2",null,"Q3",null,"Q4"]
[null,null,"ANNUAL\nTARGET",{"$f":"'[6]2.Q-PROGRESS DASHBOARD'!$D$7","v":"YTD VARIANCE"},"YTD\nACTUAL",null,"YTD\nPERFORMANCE",null,"TARGET %",null,"TARGET %",null,"TARGET %",null,"TARGET %"]
["4.2.1 TOTAL WORKERS ENTERED",null,null,null,null,null,null,null,{"$f":"I6","v":"Q1"},null,{"$f":"K6","v":"Q2"},null,{"$f":"M6","v":"Q3"},null,{"$f":"O6","v":"Q4"}]
[{"$f":"'2.REGIONS DASHBOARD'!K4","v":"GAUTENG"}]
[{"$f":"'2.REGIONS DASHBOARD'!AA4","v":"KZN"}]
[{"$f":"'2.REGIONS DASHBOARD'!AQ4","v":"WESTERN CAPE"}]
["TOTAL"]
[]
["4.2.1 TOTAL WORKERS CERTIFICATED"]
["GAUTENG"]
["KZN"]
["WESTERN CAPE"]
[]
["4.2.1  TOTAL UNEMPLOYED ENTERED"]
["GAUTENG"]
["KZN"]
["WESTERN CAPE"]
[]
["4.2.1  TOTAL UNEMPLOYED CERTIFICATED"]
["GAUTENG"]
["KZN"]
["WESTERN CAPE"]
[]
[" 4.2.1  TOTAL  ARTISANS ENTERED"]
["GAUTENG"]
["KZN"]
["WESTERN CAPE"]
[]
[" 4.2.1  TOTAL  ARTISANS CRTIFICATED"]
["GAUTENG"]
["KZN"]
["WESTERN CAPE"]
[]
["4.2.3  WORKPLACE EXPERIENCE"]
["GAUTENG"]
["KZN"]
["WESTERN CAPE"]
[]
["4.3.2 FET COLLEGE PARTNERSHIPS"]
["GAUTENG"]
["KZN"]
["WESTERN CAPE"]
[]
["4.4. AET PROGRAMMES ENTERED"]
["GAUTENG"]
["KZN"]
["WESTERN CAPE"]
[]
["4.4. AET PROGRAMMES CERTIFICATED"]
["GAUTENG"]
["KZN"]
["WESTERN CAPE"]
[]
["4.6.1  CO-OPERATIVES"]
["GAUTENG"]
["KZN"]
["WESTERN CAPE"]
[]
["4.6.2  SMALL BUSINESS SUPPORT"]
["GAUTENG"]
["KZN"]
["WESTERN CAPE"]
[]
["4.6.3  NGO, CBO,NLPE"]
["GAUTENG"]
["KZN"]
["WESTERN CAPE"]
[]
["4.8 CAREER GUIDANCE"]
["GAUTENG"]
["KZN"]
["WESTERN CAPE"]
[]
[]
[null,null,null,null,null,{"$f":"SUM(F75,F70,F65,F60,F55,F50,F45,F35,F30,F25,F20,F15,F9)","v":0}]
[null,null,null,null,null,{"$f":"SUM(F76,F71,F66,F61,F56,F51,F46,F36,F31,F26,F21,F16,F10)","v":0}]
[null,null,null,null,null,{"$f":"SUM(F77,F72,F67,F62,F57,F52,F47,F37,F32,F27,F22,F17,F11)","v":0}]